BEGIN:VCALENDAR
VERSION:2.0
PRODID:-//Woods N Water - ECPv6.15.20//NONSGML v1.0//EN
CALSCALE:GREGORIAN
METHOD:PUBLISH
X-ORIGINAL-URL:https://woodsnwater.org
X-WR-CALDESC:Events for Woods N Water
REFRESH-INTERVAL;VALUE=DURATION:PT1H
X-Robots-Tag:noindex
X-PUBLISHED-TTL:PT1H
BEGIN:VTIMEZONE
TZID:America/New_York
BEGIN:DAYLIGHT
TZOFFSETFROM:-0500
TZOFFSETTO:-0400
TZNAME:EDT
DTSTART:20220313T070000
END:DAYLIGHT
BEGIN:STANDARD
TZOFFSETFROM:-0400
TZOFFSETTO:-0500
TZNAME:EST
DTSTART:20221106T060000
END:STANDARD
BEGIN:DAYLIGHT
TZOFFSETFROM:-0500
TZOFFSETTO:-0400
TZNAME:EDT
DTSTART:20230312T070000
END:DAYLIGHT
BEGIN:STANDARD
TZOFFSETFROM:-0400
TZOFFSETTO:-0500
TZNAME:EST
DTSTART:20231105T060000
END:STANDARD
BEGIN:DAYLIGHT
TZOFFSETFROM:-0500
TZOFFSETTO:-0400
TZNAME:EDT
DTSTART:20240310T070000
END:DAYLIGHT
BEGIN:STANDARD
TZOFFSETFROM:-0400
TZOFFSETTO:-0500
TZNAME:EST
DTSTART:20241103T060000
END:STANDARD
END:VTIMEZONE
BEGIN:VEVENT
DTSTART;TZID=America/New_York:20230401T163000
DTEND;TZID=America/New_York:20230401T230000
DTSTAMP:20260425T193423
CREATED:20230321T224414Z
LAST-MODIFIED:20230321T224414Z
UID:1668-1680366600-1680390000@woodsnwater.org
SUMMARY:Combat Campfire XII
DESCRIPTION:This event is strictly for those that have been deployed to a Combat Zone!\n\n**REGISTER VIA EVENTBRITE. SIMPLY CLICK ON TICKETS!**\n\nAre you a Veteran or an Active Duty Member of the Armed Forces that has been deployed to a Combat Zone? If so\, we Welcome you home & invite you to join others that have been as well to sit around a campfire breaking bread and shootin’ the shit……… let the conversation and mood direct the night.\n\nWe start the night at 1630\, but you are welcome to arrive when you can make it and it lasts as long as y’all want it to. Dinner will be ready at 1700. We will provide a campfire\, coffee\, bottled water\, snacks and dinner. All y’all have to do is keep the fire going.\nFor those that have a far travel\, we have limited accommodations available. Just contact us to discuss and reserve your spot.\n\n**REGISTER VIA EVENTBRITE. SIMPLY CLICK ON TICKETS!**\n\nWoods ~n~ Water vets ALL Combat Campfire participants. If you have not been verified by a Woods ~n~ Water board member\, please provide proper documentation. There are instructions on how to do so in the registration process for those that need to.\n\n**REGISTER VIA EVENTBRITE. SIMPLY CLICK ON TICKETS!**\n\nIf you have a mental health crisis\, please dial 988 then press 1
URL:https://woodsnwater.org/event/combat-campfire-xii/
LOCATION:Wood ~n~ Water\, 570 Garton Rd\, Bridgeton\, NJ\, 08302\, United States
ATTACH;FMTTYPE=image/jpeg:https://woodsnwater.org/wp-content/uploads/2022/05/Combat-Campfire.jpg
ORGANIZER;CN="Woods N Water":MAILTO:GDaly@WoodsnWater.org
END:VEVENT
BEGIN:VEVENT
DTSTART;TZID=America/New_York:20230422T090000
DTEND;TZID=America/New_York:20230422T170000
DTSTAMP:20260425T193423
CREATED:20230103T112805Z
LAST-MODIFIED:20230422T102257Z
UID:1545-1682154000-1682182800@woodsnwater.org
SUMMARY:3rd Annual Poker Run & Resource Fair
DESCRIPTION:   SPONSOR OPPORTUNITIES \nAfter two successful Poker Run & Resource Fair events\, we are going to hold one in 2023. Each year\, we have gained volunteers\, supporters and\, more importantly\, Heroes. Heroes that have benefitted from our events/activities\, food pantry\, camaraderie\, information and assistance. \n  \nEach year\, the many organizations that attend have been able to share their information\, gain volunteers & Heroes as well. Be sure to visit all of their tables to see what they have to offer. One of the motivations of starting Woods ~n~ Water was to find and share the many great benefits that are available to the men and women that have or are serving this great country. This year\, we are adding vendors to the mix. So stop out to see if there is something for you. \n  \nWe are adding a military vehicle show to this year’s event as well. Come out and check them out\, listen to some good music by Secret Sauce\, Steakouts is providing some tasty grub\, get up to date resources available for our Nation’s Heroes and shop the vendors. If you have a military vehicle\, JOIN US!!!!! \n  \nAs with the two previous years\, the admission donation is $25 per person. All vehicles are welcome. For those preferring not to participate in the run\, but would like to attend\, you may arrive at Steakouts Homeplate directly\, provide your donation\, draw your (5) cards and enjoy yourself. Keep in mind\, each poker run stop offers an opportunity to win a prize. \nWhat is included: \n\nAn opportunity to win best hand\nFood provided by Steakouts Homeplate\nLive music\nResource fair\nVendors\nMilitary vehicle show\n\n  \nBe sure to visit back for updates as we confirm them.
URL:https://woodsnwater.org/event/3rd-annual-poker-run-resource-fair/
LOCATION:Steakouts Homeplate\, 85 Harding Highway\, Pittsgrove\, NJ\, 08318\, United States
CATEGORIES:Fundraiser
ATTACH;FMTTYPE=image/png:https://woodsnwater.org/wp-content/uploads/2023/01/Woods_n_Water-3rd-Annual-Poker-run.png
ORGANIZER;CN="Woods N Water":MAILTO:GDaly@WoodsnWater.org
END:VEVENT
BEGIN:VEVENT
DTSTART;TZID=America/New_York:20230426T183000
DTEND;TZID=America/New_York:20230426T220000
DTSTAMP:20260425T193423
CREATED:20230415T051437Z
LAST-MODIFIED:20230415T053108Z
UID:1700-1682533800-1682546400@woodsnwater.org
SUMMARY:Bowling & Buffet for Veterans
DESCRIPTION:We are going to change up this month’s Mission: Night Out.\n\nOnce again\, Building Contractors Association of South Jersey has reached out to offer our Veterans and their families a night out of FREE bowling\, food and camaraderie.\n\nThe last event was a hit\, so do not miss out on this event. This is for Veterans and their families (includes friends they wish to bring) only.\n\nYou MUST register via Eventbrite!!!!! To register via Eventbrite\, simply click on tickets (FREE) and it will direct you to the Eventbrite registration. Each individual of your party will need to be registered. Thank you.
URL:https://woodsnwater.org/event/bowling-buffet-for-veterans/
LOCATION:DiDonato Familyh Fun Center\, 1151 S White Horse Pike\, Hammonton\, 115108037-1023\, United States
ATTACH;FMTTYPE=image/png:https://woodsnwater.org/wp-content/uploads/2023/04/Screenshot-102.png
ORGANIZER;CN="Woods N Water":MAILTO:GDaly@WoodsnWater.org
END:VEVENT
END:VCALENDAR