BEGIN:VCALENDAR
VERSION:2.0
PRODID:-//Woods N Water - ECPv6.15.20//NONSGML v1.0//EN
CALSCALE:GREGORIAN
METHOD:PUBLISH
X-ORIGINAL-URL:https://woodsnwater.org
X-WR-CALDESC:Events for Woods N Water
REFRESH-INTERVAL;VALUE=DURATION:PT1H
X-Robots-Tag:noindex
X-PUBLISHED-TTL:PT1H
BEGIN:VTIMEZONE
TZID:America/New_York
BEGIN:DAYLIGHT
TZOFFSETFROM:-0500
TZOFFSETTO:-0400
TZNAME:EDT
DTSTART:20220313T070000
END:DAYLIGHT
BEGIN:STANDARD
TZOFFSETFROM:-0400
TZOFFSETTO:-0500
TZNAME:EST
DTSTART:20221106T060000
END:STANDARD
BEGIN:DAYLIGHT
TZOFFSETFROM:-0500
TZOFFSETTO:-0400
TZNAME:EDT
DTSTART:20230312T070000
END:DAYLIGHT
BEGIN:STANDARD
TZOFFSETFROM:-0400
TZOFFSETTO:-0500
TZNAME:EST
DTSTART:20231105T060000
END:STANDARD
BEGIN:DAYLIGHT
TZOFFSETFROM:-0500
TZOFFSETTO:-0400
TZNAME:EDT
DTSTART:20240310T070000
END:DAYLIGHT
BEGIN:STANDARD
TZOFFSETFROM:-0400
TZOFFSETTO:-0500
TZNAME:EST
DTSTART:20241103T060000
END:STANDARD
END:VTIMEZONE
BEGIN:VEVENT
DTSTART;TZID=America/New_York:20230917T053000
DTEND;TZID=America/New_York:20230917T140000
DTSTAMP:20260425T115002
CREATED:20230809T053726Z
LAST-MODIFIED:20230809T053726Z
UID:1753-1694928600-1694959200@woodsnwater.org
SUMMARY:Mission: Heroes Bass Fishing Derby - Assunpink Lake
DESCRIPTION:Woods ~n~ Water is holding a boat fishing event for our Nation’s Heroes. If you are a Veteran/Active Duty member of the Armed Forces or a First Responder\, please join us for a day of fishing\, camaraderie and friendly competition. Everything is FREE!\nIf you have your own gear\, bring it. If not\, we will provide what you need to have a good day on the water boat fishing. We will pair you up with a volunteer with a boat and angler experience to see which boat team will have bragging rights for the day.\n\nCategories:\n(3) 15″ Bass limit\nBig Bass\nBig Miscellaneous\nBig Panfish\n\n**REGISTER VIA EVENTBRITE !!! Simply click on “free or tickets” and it will take you right to the registration.\n\nVolunteers with a boat and fishing experience are wanted!!! Please register and we will pair you up with one of our Nation’s Heroes for an opportunity to show appreciation for their service and to provide a therapeutic day on the water. What better way to give back than to do something that you enjoy? Every day\, individuals that serve this great country die by suicide because of their time in service. Events like these have a positive impact on mental health and there have been studies done to prove that they do. Be part of a Hero’s journey to better mental health.\n\nAre you a Veterans or first Responders that have a boat we will pair you up with another Hero. If you have a friend or family member with a boat and would like to fish together\, we encourage you to join us.\n\nWe ask that everyone arrive on time or earlier\, sign in\, enjoy some coffee\, water\, snacks/bagels\, get acquainted with everyone and hit the water by 0630. Everyone is to be back at the ramp by 2:00pm\, weigh your catch\, release your catch\, then start busting chops about who won what.\n\nREGISTER VIA EVENTBRITE !!! Simply click on “free or tickets” and it will take you right to the registration.
URL:https://woodsnwater.org/event/mission-heroes-bass-fishing-derby-assunpink-lake/
LOCATION:Assunpink Lake\, 386 Clarksburg Robbinsville Rd\, Robbinsville\, NJ\, 08691\, United States
ATTACH;FMTTYPE=image/jpeg:https://woodsnwater.org/wp-content/uploads/2023/08/293746513_352203490415398_2100793522979671147_n.jpg
ORGANIZER;CN="Woods N Water":MAILTO:GDaly@WoodsnWater.org
END:VEVENT
END:VCALENDAR