BEGIN:VCALENDAR
VERSION:2.0
PRODID:-//Woods N Water - ECPv6.15.20//NONSGML v1.0//EN
CALSCALE:GREGORIAN
METHOD:PUBLISH
X-WR-CALNAME:Woods N Water
X-ORIGINAL-URL:https://woodsnwater.org
X-WR-CALDESC:Events for Woods N Water
REFRESH-INTERVAL;VALUE=DURATION:PT1H
X-Robots-Tag:noindex
X-PUBLISHED-TTL:PT1H
BEGIN:VTIMEZONE
TZID:America/New_York
BEGIN:DAYLIGHT
TZOFFSETFROM:-0500
TZOFFSETTO:-0400
TZNAME:EDT
DTSTART:20230312T070000
END:DAYLIGHT
BEGIN:STANDARD
TZOFFSETFROM:-0400
TZOFFSETTO:-0500
TZNAME:EST
DTSTART:20231105T060000
END:STANDARD
BEGIN:DAYLIGHT
TZOFFSETFROM:-0500
TZOFFSETTO:-0400
TZNAME:EDT
DTSTART:20240310T070000
END:DAYLIGHT
BEGIN:STANDARD
TZOFFSETFROM:-0400
TZOFFSETTO:-0500
TZNAME:EST
DTSTART:20241103T060000
END:STANDARD
BEGIN:DAYLIGHT
TZOFFSETFROM:-0500
TZOFFSETTO:-0400
TZNAME:EDT
DTSTART:20250309T070000
END:DAYLIGHT
BEGIN:STANDARD
TZOFFSETFROM:-0400
TZOFFSETTO:-0500
TZNAME:EST
DTSTART:20251102T060000
END:STANDARD
END:VTIMEZONE
BEGIN:VEVENT
DTSTART;TZID=America/New_York:20241102T080000
DTEND;TZID=America/New_York:20241127T170000
DTSTAMP:20260424T125547
CREATED:20241103T025821Z
LAST-MODIFIED:20241103T025821Z
UID:2564-1730534400-1732726800@woodsnwater.org
SUMMARY:Mission: Turkey Dinner
DESCRIPTION:As we do each year\, Woods n Water will be offering complete uncooked Thanksgiving meals to our Nation’s Heroes. With your help\, we will be able provide to more Hero Families.\n\nIf you will not use the free turkey give away from your grocery store\, please consider donating it to this mission. As always\, monetary donations are very helpful as well as all the rest of the fixings needed for a complete Thanksgiving Dinner. From the turkey\, to the rolls\, to desserts. We look to provide it ALL to as many as we can!!!\n\nTo donate monetarily\, scan the QR code on this event photo\, visit our website art WoodsnWater.org and click on the donate button or visit our Venmo at @Woods-nWater.\nTo arrange in-kind donations\, please call/text us\, message us on our Facebook page or email us at information@WoodsnWater.org
URL:https://woodsnwater.org/event/mission-turkey-dinner/
ATTACH;FMTTYPE=image/jpeg:https://woodsnwater.org/wp-content/uploads/2024/11/20211031_1522461.jpg
END:VEVENT
BEGIN:VEVENT
DTSTART;TZID=America/New_York:20241109T123000
DTEND;TZID=America/New_York:20241109T170000
DTSTAMP:20260424T125547
CREATED:20240916T023405Z
LAST-MODIFIED:20240917T113354Z
UID:2432-1731155400-1731171600@woodsnwater.org
SUMMARY:Scuba Diving Discovery Course III
DESCRIPTION:This event is for Veterans/Active Duty Members of the Armed Forces\, First Responders and one of their family members (includes a friend). There is a limit of (12) total participants\, (6) in each class. Depending on the amount of registrations\, there may be an opportunity for more than one member to accompany the Hero.\n\nThe purpose of the Discover Course is to provide a scuba diving experience in a safe environment with trained and certified instructors. This is NOT a certification course! The course is for beginners that would like to see if they may have an interest in scuba diving.\n\nIndividuals that complete the course and feel that they would like to pursue scuba diving\, may have an opportunity to take certification courses in the future\, as well as participate in future diving trips both locally and out of the State of New Jersey.\n\n*** BE SURE TO REGISTER VIA EVENTBRITE!!! ***\n\nThere are two (2) classes being offered that are approximately 1 and a half hour long.Please let us know if you have any equipment you plan on using. If you already have mask\, snorkel\, and fins\, please bring them with you. If not\, don’t worry\, we will have a set for you to use! We will need height\, weight\, and shoe size for all divers for BCD and neoprene vest size.Divers should wear a swimsuit with a shirt or sun shirt. A light weight wetsuit is a good idea if they have one. It is a heated pool but divers may get chilly after some time in water. A towel and change of clothes is suggested as well.\n\nThe pool is located at Giant Fitness (120 Britton Place\, Voorhees\, NJ 08043). When you arrive\, please check in at the front desk. From there\, make your way to the pool and let us know you are present. We will guide you from there.\n\nPlease arrive by the time provided with the class that you register for and PLEASE be sure to make the class or cancel your registration as soon as you know you will not make it so others will have an opportunity.
URL:https://woodsnwater.org/event/scuba-diving-discovery-course-iii/
LOCATION:Giant Fitness\, 120 Britton Place\, Vorhees\, NJ\, 08043
ATTACH;FMTTYPE=image/jpeg:https://woodsnwater.org/wp-content/uploads/2024/07/Resized_20240720_101703.jpeg
ORGANIZER;CN="Woods N Water":MAILTO:GDaly@WoodsnWater.org
END:VEVENT
BEGIN:VEVENT
DTSTART;TZID=America/New_York:20241124T093000
DTEND;TZID=America/New_York:20241124T140000
DTSTAMP:20260424T125547
CREATED:20241029T024740Z
LAST-MODIFIED:20241029T035534Z
UID:2561-1732440600-1732456800@woodsnwater.org
SUMMARY:Mission: Atlantic County Ruck/Hike
DESCRIPTION:Join us as we show our Nation’s Heroes our gratitude and to honor their sacrifices for their service. From our Armed Forces to our First Responders\, we appreciate those that have or are serving and we honor and remeber those that are no longer with us. \nOur ruck/hike events are geared towards more than one purpose and are open to all of our Nation’s Heroes and those that support them. Be the American worth fighting for and join us for some outdoor therapy for better mental and physical health\, while supporting others doing the same. \nIf you have a ruck sack\, feel free to bring it with you. You could place 22lbs of weight in it in support of the estimated average of 22 Veterans a day that die by suicide or you could carry the name of a Veteran or First Responder KIA. Or you can just come as you are and support a healthy lifestyle and our Nation’s Heroes. \nStudies have shown that activity alone is beneficial for both our mental and physical health\, but utilizing nature increases the positive impact that it has. From the fresh air\, to the calm environment\, to having less distractions\, being active outdoors in nature offers better benefits. \nWe will provide bottled water and some healthy snacks. We just need you !!!\nWe ask that you arrive no later than 9:30 am (please feel free to arrive earlier at 9:00) so that we can get everyone signed in and get acquainted be fore we hit the trails
URL:https://woodsnwater.org/event/mission-atlantic-county-ruck-hike/
LOCATION:Atlantic County Park\, 109 Rte 50\, Mays Landing\, NJ\, 08330\, United States
ORGANIZER;CN="Woods N Water":MAILTO:GDaly@WoodsnWater.org
END:VEVENT
BEGIN:VEVENT
DTSTART;TZID=America/New_York:20241127T180000
DTEND;TZID=America/New_York:20241127T220000
DTSTAMP:20260424T125547
CREATED:20241003T223849Z
LAST-MODIFIED:20241003T223849Z
UID:2526-1732730400-1732744800@woodsnwater.org
SUMMARY:3rd Annual Pumpkin Chunk'n
DESCRIPTION:Steakouts Homeplate in Pittsgrove is holding the 3rd annual Pumpkin Chunk’n event to raise both funds and food donations for the Woods n Water Food Pantry. This event is a lot of fun\, with an outstanding band that some of you may recall from our 3rd Annual We Got Your 6 Poker Run & Resource Fair\, Secret Sauce. \n  \nRegistration 6-7pmentry fee: Canned Food items(encouraged to bring 5)donated to woods n water food pantry\, benefiting local veterans!www.WoodsnWater.org
URL:https://woodsnwater.org/event/3rd-annual-pumpkin-chunkn/
LOCATION:Steakouts Homeplate\, 85 Harding Highway\, Pittsgrove\, NJ\, 08318\, United States
ATTACH;FMTTYPE=image/jpeg:https://woodsnwater.org/wp-content/uploads/2024/10/461963467_969546658523330_2382735216378324305_n.jpg
ORGANIZER;CN="Woods N Water":MAILTO:GDaly@WoodsnWater.org
END:VEVENT
END:VCALENDAR