BEGIN:VCALENDAR
VERSION:2.0
PRODID:-//Woods N Water - ECPv6.15.20//NONSGML v1.0//EN
CALSCALE:GREGORIAN
METHOD:PUBLISH
X-ORIGINAL-URL:https://woodsnwater.org
X-WR-CALDESC:Events for Woods N Water
REFRESH-INTERVAL;VALUE=DURATION:PT1H
X-Robots-Tag:noindex
X-PUBLISHED-TTL:PT1H
BEGIN:VTIMEZONE
TZID:America/New_York
BEGIN:DAYLIGHT
TZOFFSETFROM:-0500
TZOFFSETTO:-0400
TZNAME:EDT
DTSTART:20240310T070000
END:DAYLIGHT
BEGIN:STANDARD
TZOFFSETFROM:-0400
TZOFFSETTO:-0500
TZNAME:EST
DTSTART:20241103T060000
END:STANDARD
BEGIN:DAYLIGHT
TZOFFSETFROM:-0500
TZOFFSETTO:-0400
TZNAME:EDT
DTSTART:20250309T070000
END:DAYLIGHT
BEGIN:STANDARD
TZOFFSETFROM:-0400
TZOFFSETTO:-0500
TZNAME:EST
DTSTART:20251102T060000
END:STANDARD
BEGIN:DAYLIGHT
TZOFFSETFROM:-0500
TZOFFSETTO:-0400
TZNAME:EDT
DTSTART:20260308T070000
END:DAYLIGHT
BEGIN:STANDARD
TZOFFSETFROM:-0400
TZOFFSETTO:-0500
TZNAME:EST
DTSTART:20261101T060000
END:STANDARD
END:VTIMEZONE
BEGIN:VEVENT
DTSTART;TZID=America/New_York:20250116T190000
DTEND;TZID=America/New_York:20250116T210000
DTSTAMP:20260424T100152
CREATED:20250111T212524Z
LAST-MODIFIED:20250112T121014Z
UID:2701-1737054000-1737061200@woodsnwater.org
SUMMARY:Fly Tying & Casting with SJCFA
DESCRIPTION:South Jersey Coastal Fly Anglers is holding fly tying & casting events on the 3rd Thursday of January\, February & March. \n  \nWe have partnered with SJCFA in the past\, holding fly tying classes\, fly casting classes and holding an instructional fly casting & fishing event with a cookout for a VA Veterans suicide prevention program. All SJCFA skilled are skilled\, knowledgeable and eager to share with others. \n  \nWhether you are already experienced with fly fishing\, have no experience or do not even have an interest in fly fishing\, fly tying is a therapeutic and relaxing activity. So come on out and join us for the camaraderie. \n  \nPlease let us know if you definitely plan on attending so that we may be better prepared. We understand some times it may be a last minute decision\, and that is fine\, but if you can let us know in advance\, it would be greatly appreciated. You can contact us or the contact information on the flier. If you use the contact information on the flier\, be sure to let them know that Woods n Water sent you! \n  \nWe hope to see you there.
URL:https://woodsnwater.org/event/fly-tying-casting-with-sjcfa/
LOCATION:Ocean City Community Center\, 1735 Simpson Ave\, Ocean City\, NJ\, 08226\, United States
ATTACH;FMTTYPE=image/jpeg:https://woodsnwater.org/wp-content/uploads/2025/01/472987866_935307952034780_8761660132631197690_n.jpg
ORGANIZER;CN="Woods N Water":MAILTO:GDaly@WoodsnWater.org
END:VEVENT
BEGIN:VEVENT
DTSTART;TZID=America/New_York:20250119T093000
DTEND;TZID=America/New_York:20250119T120000
DTSTAMP:20260424T100152
CREATED:20241228T101144Z
LAST-MODIFIED:20241228T101144Z
UID:2689-1737279000-1737288000@woodsnwater.org
SUMMARY:Edwin B. Forsythe Wildlife Hike/Ruck
DESCRIPTION:For our monthly hike/ruck\, we are holding it at the Edwin B. Forsythe National Wildlife located at 800 Great Creek Rd\, Galloway\, NJ 08205. \nThe purpose of our monthly hikes/rucks is to provide an activity for our Nation’s Heroes that is healthy and an opportunity for us all to show our appreciation for their service. One of the mindsets that we use at Woods n Water is #bettertoday. Each day we have an opportunity to be better. Better health (physically & mentally)\, a better member of society\, make better choices ……. \nTime in nature is better for everyone’s health\, but is an outstanding holistical method of healing. Studies have been done to show what we many of us feel after time in nature ……”better” Whether it be just to balance our daily activities or the camaraderie\, we all walk away better. \nWe ask that you arrive promptly by 9:30 (earlier arrival encouraged)\, get signed in and be ready for our journey together. Woods n Water will provide bottles of water and healthy snacks for those that are interested. \nIf you wish to ruck\, we ask that you add 22lbs to your ruck sack to honor that Heroes that have died by suicide. A study was done and it was determined that 22 Veterans a day die by suicide. We lose more Veterans & First Responders to suicide than we do from K.I.A. (Killed In Action). Together\, we can take that step to a better day and reduce that 22.
URL:https://woodsnwater.org/event/edwin-b-forsythe-wildlife-hike-ruck/
LOCATION:Edwin B. Forsythe Wildlife Refuge\, 800 Great Creek Rd\, Galloway\, NJ\, 08205\, United States
ATTACH;FMTTYPE=image/jpeg:https://woodsnwater.org/wp-content/uploads/2024/12/forsythe.jpg
ORGANIZER;CN="Woods N Water":MAILTO:GDaly@WoodsnWater.org
END:VEVENT
END:VCALENDAR