BEGIN:VCALENDAR
VERSION:2.0
PRODID:-//Woods N Water - ECPv6.15.20//NONSGML v1.0//EN
CALSCALE:GREGORIAN
METHOD:PUBLISH
X-ORIGINAL-URL:https://woodsnwater.org
X-WR-CALDESC:Events for Woods N Water
REFRESH-INTERVAL;VALUE=DURATION:PT1H
X-Robots-Tag:noindex
X-PUBLISHED-TTL:PT1H
BEGIN:VTIMEZONE
TZID:America/New_York
BEGIN:DAYLIGHT
TZOFFSETFROM:-0500
TZOFFSETTO:-0400
TZNAME:EDT
DTSTART:20240310T070000
END:DAYLIGHT
BEGIN:STANDARD
TZOFFSETFROM:-0400
TZOFFSETTO:-0500
TZNAME:EST
DTSTART:20241103T060000
END:STANDARD
BEGIN:DAYLIGHT
TZOFFSETFROM:-0500
TZOFFSETTO:-0400
TZNAME:EDT
DTSTART:20250309T070000
END:DAYLIGHT
BEGIN:STANDARD
TZOFFSETFROM:-0400
TZOFFSETTO:-0500
TZNAME:EST
DTSTART:20251102T060000
END:STANDARD
BEGIN:DAYLIGHT
TZOFFSETFROM:-0500
TZOFFSETTO:-0400
TZNAME:EDT
DTSTART:20260308T070000
END:DAYLIGHT
BEGIN:STANDARD
TZOFFSETFROM:-0400
TZOFFSETTO:-0500
TZNAME:EST
DTSTART:20261101T060000
END:STANDARD
END:VTIMEZONE
BEGIN:VEVENT
DTSTART;TZID=America/New_York:20250621T050000
DTEND;TZID=America/New_York:20250621T133000
DTSTAMP:20260424T052825
CREATED:20250306T015924Z
LAST-MODIFIED:20250306T015924Z
UID:2726-1750482000-1750512600@woodsnwater.org
SUMMARY:Mission: Heroes Bass Fishing - Union Lake
DESCRIPTION:This is a boat event for our Nation’s Heroes.\n\nVolunteer boaters will be paired with Veterans/active duty members of the Armed Forces and first responders for a FREE day of fishing on the water. If a Veteran/active duty member of the Armed Forces or a first responder has their own boat or a friend/family member that will take them out in one\, they are welcome to do so. If not\, we will team up each Hero with someone with a boat. So if you have a boat and would like to volunteer your time and boat to take a Hero out for a day of fishing\, we welcome you to join us.\n\n\n\n***You must register via Eventbrite! The link is provided for you in this event.***\n\nHeroes do NOT need a fishing license. NJ Fish & Wildlife generously waived the license requirement for WnW events. All others must have a current NJ fishing license in possession.There is a motor restriction for this lake. No motor bigger than 9.9hp and boats must be legally registered. Derby team tournament format with awards going to:Bass 5 fish limit\n* 1st Big Bass Team* 1st Big Miscellaneous Team* 1st Big Panfish Team (Crappie/Perch)(1) fishing rod per person at a time. Lures & live bait permitted(2) people per boat\n\n\n\nWe ask boaters to arrive at 05:00\, get signed in and have your boat & gear ready to launch by 06:00\,Those without a boat are asked to arrive by 05:30\, sign in and be ready to launch with the boater assigned to you by 06:00
URL:https://woodsnwater.org/event/mission-heroes-bass-fishing-union-lake/
LOCATION:Union Lake Boat Ramp
ATTACH;FMTTYPE=image/jpeg:https://woodsnwater.org/wp-content/uploads/2025/03/455788889_811103114525431_5433098257869928364_n.jpg
ORGANIZER;CN="Woods N Water":MAILTO:GDaly@WoodsnWater.org
END:VEVENT
BEGIN:VEVENT
DTSTART;TZID=America/New_York:20250622T163000
DTEND;TZID=America/New_York:20250622T220000
DTSTAMP:20260424T052825
CREATED:20250609T011634Z
LAST-MODIFIED:20250609T132021Z
UID:2897-1750609800-1750629600@woodsnwater.org
SUMMARY:Combat Campfire
DESCRIPTION:Are you a Veteran or Active Duty Member of the Armed Forces and have been deployed to a Combat Zone? \nIf so\, we welcome you home and invite you to join others that have been as well in sitting around a campfire\, breaking bread and shootin’ the shit ………. let the conversations and mood direct the night. We start the night at 1630\, but you are welcome to arrive when you can make it. It will last as long as y’all want it to (ending time is required for the event creation). \nAt 1630\, there will be coffee\, bottled water and snacks; at 1700ish\, dinner will be served. We provide the campfire\, wood\, coffee\, bottles of water\, snacks and grub. All that y’all have to do is keep the fire going. \n*** You MUST register for this event!!! *** Simply click on the link provided and it will direct you to the Eventbrite registration. \nWoods ~n~ Water vets ALL Combat Campfire participants. If you have not been verified by a Woods ~n~ Water board member\, please provide proper documentation. There are instructions on how to do so in the registration process for those that need to. \n  \nWe will be set up at campsite #7. They allow only two vehicles per campsite so please park at the registration building and walk back following the Woods n Water signs. For those with mobility issues\, please feel free to drive back. We will figure it out then.
URL:https://woodsnwater.org/event/combat-campfire/
LOCATION:Lake Lenape West\, 753 Park Rd\, Mays Landing\, 08330\, United States
ATTACH;FMTTYPE=image/png:https://woodsnwater.org/wp-content/uploads/2025/06/Screenshot-67.png
ORGANIZER;CN="Woods N Water":MAILTO:GDaly@WoodsnWater.org
END:VEVENT
END:VCALENDAR