BEGIN:VCALENDAR
VERSION:2.0
PRODID:-//Woods N Water - ECPv6.15.20//NONSGML v1.0//EN
CALSCALE:GREGORIAN
METHOD:PUBLISH
X-WR-CALNAME:Woods N Water
X-ORIGINAL-URL:https://woodsnwater.org
X-WR-CALDESC:Events for Woods N Water
REFRESH-INTERVAL;VALUE=DURATION:PT1H
X-Robots-Tag:noindex
X-PUBLISHED-TTL:PT1H
BEGIN:VTIMEZONE
TZID:America/New_York
BEGIN:DAYLIGHT
TZOFFSETFROM:-0500
TZOFFSETTO:-0400
TZNAME:EDT
DTSTART:20220313T070000
END:DAYLIGHT
BEGIN:STANDARD
TZOFFSETFROM:-0400
TZOFFSETTO:-0500
TZNAME:EST
DTSTART:20221106T060000
END:STANDARD
BEGIN:DAYLIGHT
TZOFFSETFROM:-0500
TZOFFSETTO:-0400
TZNAME:EDT
DTSTART:20230312T070000
END:DAYLIGHT
BEGIN:STANDARD
TZOFFSETFROM:-0400
TZOFFSETTO:-0500
TZNAME:EST
DTSTART:20231105T060000
END:STANDARD
BEGIN:DAYLIGHT
TZOFFSETFROM:-0500
TZOFFSETTO:-0400
TZNAME:EDT
DTSTART:20240310T070000
END:DAYLIGHT
BEGIN:STANDARD
TZOFFSETFROM:-0400
TZOFFSETTO:-0500
TZNAME:EST
DTSTART:20241103T060000
END:STANDARD
END:VTIMEZONE
BEGIN:VEVENT
DTSTART;TZID=America/New_York:20231107T080000
DTEND;TZID=America/New_York:20231121T170000
DTSTAMP:20260425T125353
CREATED:20231108T020819Z
LAST-MODIFIED:20231108T020819Z
UID:1832-1699344000-1700586000@woodsnwater.org
SUMMARY:Mission: Thanksgiving for Heroes
DESCRIPTION:Once again\, Woods ~n~ Water is looking to provide complete holiday meals for our Nation’s Heroes.\nWe are looking to expand on the amount of Hero Families we serve by having others get involved by holding food drives\, donating items\, donating monetarily\, volunteering to deliver meals\, volunteering to organize and sending Heroes to our registration to benefit from this Mission.\n\nSo if you are an organization\, school\, business\, group or individual that is willing to assist with this Mission\, please register or contact us.\nTo schedule getting your donations to us\, please use one of the many options available:\n* send a message on facebook – facebook.com/WoodsnWater22/\n* GDaly@WoodsnWater.org\n* “contact us” on WoodsnWater.org\n* 856-688-4000
URL:https://woodsnwater.org/event/mission-thanksgiving-for-heroes-2/
LOCATION:NJ
CATEGORIES:Fundraiser
ATTACH;FMTTYPE=image/jpeg:https://woodsnwater.org/wp-content/uploads/2022/09/Give-Thanks-Image-scaled.jpg
ORGANIZER;CN="Woods N Water":MAILTO:GDaly@WoodsnWater.org
END:VEVENT
END:VCALENDAR