BEGIN:VCALENDAR
VERSION:2.0
PRODID:-//Woods N Water - ECPv6.15.20//NONSGML v1.0//EN
CALSCALE:GREGORIAN
METHOD:PUBLISH
X-WR-CALNAME:Woods N Water
X-ORIGINAL-URL:https://woodsnwater.org
X-WR-CALDESC:Events for Woods N Water
REFRESH-INTERVAL;VALUE=DURATION:PT1H
X-Robots-Tag:noindex
X-PUBLISHED-TTL:PT1H
BEGIN:VTIMEZONE
TZID:America/New_York
BEGIN:DAYLIGHT
TZOFFSETFROM:-0500
TZOFFSETTO:-0400
TZNAME:EDT
DTSTART:20230312T070000
END:DAYLIGHT
BEGIN:STANDARD
TZOFFSETFROM:-0400
TZOFFSETTO:-0500
TZNAME:EST
DTSTART:20231105T060000
END:STANDARD
BEGIN:DAYLIGHT
TZOFFSETFROM:-0500
TZOFFSETTO:-0400
TZNAME:EDT
DTSTART:20240310T070000
END:DAYLIGHT
BEGIN:STANDARD
TZOFFSETFROM:-0400
TZOFFSETTO:-0500
TZNAME:EST
DTSTART:20241103T060000
END:STANDARD
BEGIN:DAYLIGHT
TZOFFSETFROM:-0500
TZOFFSETTO:-0400
TZNAME:EDT
DTSTART:20250309T070000
END:DAYLIGHT
BEGIN:STANDARD
TZOFFSETFROM:-0400
TZOFFSETTO:-0500
TZNAME:EST
DTSTART:20251102T060000
END:STANDARD
END:VTIMEZONE
BEGIN:VEVENT
DTSTART;TZID=America/New_York:20241210T080000
DTEND;TZID=America/New_York:20241222T170000
DTSTAMP:20260424T153908
CREATED:20241210T053902Z
LAST-MODIFIED:20241210T053902Z
UID:2686-1733817600-1734886800@woodsnwater.org
SUMMARY:Mission: Secret Santa
DESCRIPTION:Each year we seem to find a Hero Family that could use some Christmas cheer.\n\n\n\nWe first met this Combat Army Veteran last year when a VFW Post contacted us about one of their members needing food assistance after the mother of his children suffered a medical emergency leaving him to work full time and take care of his three children. Just prior to this incident\, this Hero adopted three of his sister’s children.\n\n\n\nThe Woods n Water crew showed up with food to stock up their pantry and gave his house a good cleaning. The Veteran did what he was trained to do…. he improvised\, adapted and has been overcoming the situation. But\, life decided to throw another challenge at him. Now he has moved his mother in and she has two children from the Veteran’s sister. Bringing the total headcount of children to EIGHT!!!\n\n\n\nWe are asking for your help to make this Hero Family’s Christmas brighter than what they have all been through for the past year. Imagine what all of the children are going through. The Veteran’s biological children having their home and way of life disrupted\, the sister’s children’s lives also being disrupted and having to relocate. Let’s pull together and do our best to give this family some Christmas cheer!!!\n\n\n\nWhether you would like to purchase and donate items for the children or donate monetarily and the Woods n Water Elves go shopping\, it would be greatly appreciated.\nTo donate monetarily\, we have several options for you to choose from: click on our ” donate ” button on this website\, mail a check to the address provided\, Venmo at @Woods-nWater\, CashApp $Woods N Water22\, Square – see QR code\nTo donate items\, below is the list of genders and ages to shop for:\n17 year old – male\n13 year old – male\n10 year old – male\n7 year old – male\n5 year old – female\n5 year old – male\n4 year old – female\n\n\n\nCurrently\, we do not have a wish list for the children or clothing sizes. If we obtain that information\, we will update this post
URL:https://woodsnwater.org/event/mission-secret-santa/
LOCATION:NJ
ATTACH;FMTTYPE=image/jpeg:https://woodsnwater.org/wp-content/uploads/2024/12/Screenshot_20241209_231318_Google-scaled.jpg
ORGANIZER;CN="Woods N Water":MAILTO:GDaly@WoodsnWater.org
END:VEVENT
END:VCALENDAR