BEGIN:VCALENDAR
VERSION:2.0
PRODID:-//Woods N Water - ECPv6.15.20//NONSGML v1.0//EN
CALSCALE:GREGORIAN
METHOD:PUBLISH
X-ORIGINAL-URL:https://woodsnwater.org
X-WR-CALDESC:Events for Woods N Water
REFRESH-INTERVAL;VALUE=DURATION:PT1H
X-Robots-Tag:noindex
X-PUBLISHED-TTL:PT1H
BEGIN:VTIMEZONE
TZID:America/New_York
BEGIN:DAYLIGHT
TZOFFSETFROM:-0500
TZOFFSETTO:-0400
TZNAME:EDT
DTSTART:20220313T070000
END:DAYLIGHT
BEGIN:STANDARD
TZOFFSETFROM:-0400
TZOFFSETTO:-0500
TZNAME:EST
DTSTART:20221106T060000
END:STANDARD
BEGIN:DAYLIGHT
TZOFFSETFROM:-0500
TZOFFSETTO:-0400
TZNAME:EDT
DTSTART:20230312T070000
END:DAYLIGHT
BEGIN:STANDARD
TZOFFSETFROM:-0400
TZOFFSETTO:-0500
TZNAME:EST
DTSTART:20231105T060000
END:STANDARD
BEGIN:DAYLIGHT
TZOFFSETFROM:-0500
TZOFFSETTO:-0400
TZNAME:EDT
DTSTART:20240310T070000
END:DAYLIGHT
BEGIN:STANDARD
TZOFFSETFROM:-0400
TZOFFSETTO:-0500
TZNAME:EST
DTSTART:20241103T060000
END:STANDARD
END:VTIMEZONE
BEGIN:VEVENT
DTSTART;TZID=America/New_York:20231209T153000
DTEND;TZID=America/New_York:20231209T190000
DTSTAMP:20260425T110222
CREATED:20231025T003339Z
LAST-MODIFIED:20231025T003339Z
UID:1801-1702135800-1702148400@woodsnwater.org
SUMMARY:Scuba Diving Discovery Course (FREE) for our Nation's Heroes
DESCRIPTION:  \nThis event is for Veterans/Active Duty Members of the Armed Forces\, First Responders and one of their family members (includes a friend). There is a limit of (12) total participants\, (6) in each class. Depending on the amount of registrations\, there may be an opportunity for more than one member to accompany the Hero. \n\nThe purpose of the Discover Course is to provide a scuba diving experience in a safe environment with trained and certified instructors. This is NOT a certification course! The course is for beginners that would like to see if they may have an interest in scuba diving. \n\nIndividuals that complete the course and feel that they would like to pursue scuba diving\, may have an opportunity to take certification courses in the future\, as well as participate in future diving trips both locally and out of the State of New Jersey. \n\n** YOU MUST REGISTER VIA EVENTBRITE!!! ** \n\nThere are two (2) classes being offered that are approximately 1 and a half hour long.  \nPlease let us know if you have any equipment you plan on using. If you already have mask\, snorkel\, and fins\, please bring them with you. If not\, don’t worry\, we will have a set for you to use! We will need height\, weight\, and shoe size for all divers for BCD and neoprene vest size. \nDivers should wear a swimsuit with a shirt or sun shirt. A light weight wetsuit is a good idea if they have one. It is a heated pool but divers may get chilly after some time in water. A towel and change of clothes is suggested as well. \n\nThe pool is located at Giant Fitness (120 Britton Place\, Voorhees\, NJ 08043). When you arrive\, please check in at the front desk. From there\, make your way to the pool and let us know you are present. We will guide you from there. \n\n** YOU MUST REGISTER VIA EVENTBRITE!!! simply click on the link provided in this event to register.
URL:https://woodsnwater.org/event/scuba-diving-discovery-course-free-for-our-nations-heroes/
LOCATION:Giant Fitness\, 120 Britton Place\, Vorhees\, NJ\, 08043
ATTACH;FMTTYPE=image/jpeg:https://woodsnwater.org/wp-content/uploads/2023/10/20231023_1434501.jpg
ORGANIZER;CN="Woods N Water":MAILTO:GDaly@WoodsnWater.org
END:VEVENT
END:VCALENDAR