BEGIN:VCALENDAR
VERSION:2.0
PRODID:-//Woods N Water - ECPv6.15.20//NONSGML v1.0//EN
CALSCALE:GREGORIAN
METHOD:PUBLISH
X-WR-CALNAME:Woods N Water
X-ORIGINAL-URL:https://woodsnwater.org
X-WR-CALDESC:Events for Woods N Water
REFRESH-INTERVAL;VALUE=DURATION:PT1H
X-Robots-Tag:noindex
X-PUBLISHED-TTL:PT1H
BEGIN:VTIMEZONE
TZID:America/New_York
BEGIN:DAYLIGHT
TZOFFSETFROM:-0500
TZOFFSETTO:-0400
TZNAME:EDT
DTSTART:20250309T070000
END:DAYLIGHT
BEGIN:STANDARD
TZOFFSETFROM:-0400
TZOFFSETTO:-0500
TZNAME:EST
DTSTART:20251102T060000
END:STANDARD
BEGIN:DAYLIGHT
TZOFFSETFROM:-0500
TZOFFSETTO:-0400
TZNAME:EDT
DTSTART:20260308T070000
END:DAYLIGHT
BEGIN:STANDARD
TZOFFSETFROM:-0400
TZOFFSETTO:-0500
TZNAME:EST
DTSTART:20261101T060000
END:STANDARD
BEGIN:DAYLIGHT
TZOFFSETFROM:-0500
TZOFFSETTO:-0400
TZNAME:EDT
DTSTART:20270314T070000
END:DAYLIGHT
BEGIN:STANDARD
TZOFFSETFROM:-0400
TZOFFSETTO:-0500
TZNAME:EST
DTSTART:20271107T060000
END:STANDARD
END:VTIMEZONE
BEGIN:VEVENT
DTSTART;TZID=America/New_York:20260307T083000
DTEND;TZID=America/New_York:20260307T113000
DTSTAMP:20260423T152422
CREATED:20260116T000515Z
LAST-MODIFIED:20260116T000515Z
UID:3394-1772872200-1772883000@woodsnwater.org
SUMMARY:EHT Nature Reserve Hike/Ruck
DESCRIPTION:Join Woods n Water for a hike/ruck at the Egg Harbor Nature Reserve. We will meet at 8:30am\, get acquainted\, signed in and hit the trails at 9:00. \nWoods n Water will provide bottled water and snacks for all attending. This event is open to all that wish to join us.\nEHT Nature Reserve is very well maintained and provides both easy and moderately challenging options. We will decide what paths we take once all arrive. \nIf you are not a frequent hiker\, no worries. Come join us and work on becoming a regular hiker. Start a healthy hobby now!!! Hiking in nature has shown to have a positive impact on one’s physical\, medical and mental health. \nCome Heal 1 step at a time.
URL:https://woodsnwater.org/event/eht-nature-reserve-hike-ruck/
LOCATION:Egg Harbor Township Nature Reserve\, 317 Zion Rd\, Egg Harbor Township\, NJ\, 08234\, United States
ATTACH;FMTTYPE=image/jpeg:https://woodsnwater.org/wp-content/uploads/2026/01/img_4_1754841525963.jpg
ORGANIZER;CN="Woods N Water":MAILTO:GDaly@WoodsnWater.org
END:VEVENT
BEGIN:VEVENT
DTSTART;TZID=America/New_York:20260321T110000
DTEND;TZID=America/New_York:20260321T160000
DTSTAMP:20260423T152422
CREATED:20260219T123438Z
LAST-MODIFIED:20260219T123557Z
UID:3403-1774090800-1774108800@woodsnwater.org
SUMMARY:Trigger Reset - Hero Skeet Shoot IV
DESCRIPTION:Once again\, our friends at Pioneer Sportsman reached out and invited us to bring our Nation’s Heroes out for a day of skeet shooting. The last three years have been incredible! The Pioneer crew organized a great event and wait until you see their clubhouse.\n\nAs with all of our events\, this is a FREE event. Shotguns\, ammo\, clays\, lunch\, bottles of water\, coffee and hot chocolate will be provided. If you have your own shotgun\, you are welcome to bring it. If you would like any other beverage\, you will need to provide it.\n\nDirections to event location: (location shown on event map is NOT the event location)We will set up Woods n Water directional signs where possible. Please copy the directions provided to assist you. We will be at the Fire & EMS Station at 1030. If you arrive there\, we can follow each other to the location. We will leave promptly at 1100!!!\nFrom Woodland Volunteer Fire & EMS Station#1 (3991 County Rd 563\, Chatsworth\, NJ 08019 – corner of 532 & Main St)From station parking lot\, turn right onto Main St (New Gretna Chatsworth Rd/Rt 563)In about 3/4 of a mile\, bear right at fork in the road\, continuing on New Gretna Chatsworth Rd/Rt 563 for another 3 milesTurn right onto Friendship Speedwell Rd for 1.3 milesTurn left at the 2nd left onto Eagle Rd for 1.1 miles to Old Oak TreeTurn right at Old Oak Tree\, event location is 1/4 of a mile on the left.\nFrom Carranza Memorial MonumentFrom monument with it on your right (Carranza Rd) travel 3.3 milesAfter crossing a bridge\, turn left at Friendship Historic Ruins onto Friendship Speedwell Rd for 1.2 milesTurn right at the first right onto Eagle Rd for 1.1 miles to Old Oak TreeTurn right onto Old Oak Tree\, event location is 1/4 of a mile on the left
URL:https://woodsnwater.org/event/hero-skeet-shoot-iv/
LOCATION:Woodland Volunteer Fire & EMS  Station\, 3991 County Rd 563\, Chatsworth\, NJ\, 08019\, United States
ATTACH;FMTTYPE=image/jpeg:https://woodsnwater.org/wp-content/uploads/2026/02/636066760_1217802453855493_4276852785309325936_n.jpg
ORGANIZER;CN="Woods N Water":MAILTO:GDaly@WoodsnWater.org
END:VEVENT
END:VCALENDAR