BEGIN:VCALENDAR
VERSION:2.0
PRODID:-//Woods N Water - ECPv6.15.20//NONSGML v1.0//EN
CALSCALE:GREGORIAN
METHOD:PUBLISH
X-WR-CALNAME:Woods N Water
X-ORIGINAL-URL:https://woodsnwater.org
X-WR-CALDESC:Events for Woods N Water
REFRESH-INTERVAL;VALUE=DURATION:PT1H
X-Robots-Tag:noindex
X-PUBLISHED-TTL:PT1H
BEGIN:VTIMEZONE
TZID:America/New_York
BEGIN:DAYLIGHT
TZOFFSETFROM:-0500
TZOFFSETTO:-0400
TZNAME:EDT
DTSTART:20230312T070000
END:DAYLIGHT
BEGIN:STANDARD
TZOFFSETFROM:-0400
TZOFFSETTO:-0500
TZNAME:EST
DTSTART:20231105T060000
END:STANDARD
BEGIN:DAYLIGHT
TZOFFSETFROM:-0500
TZOFFSETTO:-0400
TZNAME:EDT
DTSTART:20240310T070000
END:DAYLIGHT
BEGIN:STANDARD
TZOFFSETFROM:-0400
TZOFFSETTO:-0500
TZNAME:EST
DTSTART:20241103T060000
END:STANDARD
BEGIN:DAYLIGHT
TZOFFSETFROM:-0500
TZOFFSETTO:-0400
TZNAME:EDT
DTSTART:20250309T070000
END:DAYLIGHT
BEGIN:STANDARD
TZOFFSETFROM:-0400
TZOFFSETTO:-0500
TZNAME:EST
DTSTART:20251102T060000
END:STANDARD
END:VTIMEZONE
BEGIN:VEVENT
DTSTART;TZID=America/New_York:20240623T050000
DTEND;TZID=America/New_York:20240623T130000
DTSTAMP:20260425T000712
CREATED:20240220T164600Z
LAST-MODIFIED:20240220T164600Z
UID:2000-1719118800-1719147600@woodsnwater.org
SUMMARY:Mission: Heroes Bass Fishing Derby - Newton Lake
DESCRIPTION:This season we are going to raise the stakes. We will be recording every derby and at the end of the season\, there will be two 1st place gifts being presented to the best overall Hero and best overall boater. So the more events you participate in\, the more your chances are to win.\n\n*** Please be sure to register via Eventbrite by clicking on tickets/free of this event\n\nThis is a monthly fishing derby with awards being given to teams for several categories at each event. We pair each Hero (non-boater Veteran/Active Duty Armed Forces & First Responder) with a volunteer boater. Each team will consist of two anglers per boat. All teams are to launch at 0600 and return by 1300. Weigh-ins will follow with each team releasing their catch immediately after.\n\nBig Bass 1st & 2nd\nBig Panfish 1st & 2nd\nBig Miscellaneous 1st & 2nd\n\nOverall 1st\, 2nd & 3rd VOLUNTEERS WANTED!!! If you have a bass boat with a live well and an experienced angler\, please join us and take a non-boater Hero out fishing! Whether you are a Hero supporting your brothers and sisters or a civilian wanting to give back and thank our Nation’s Heroes\, we want you!!!\n\nWe ask that all volunteer boaters arrive by 0500\, get your boat and gear ready by 0600\, sign in and get to know one another until teams are announced. We ask that all non-boater Heroes arrive by 0530\, get signed in and get to know one another until teams are announced.\n\n*** REGISTER VIA EVENTBRITE ***
URL:https://woodsnwater.org/event/mission-heroes-bass-fishing-derby-newton-lake/
LOCATION:Newton Lake Park\, Newton Lake Drive\, Oaklyn\, New Jersey
ATTACH;FMTTYPE=image/jpeg:https://woodsnwater.org/wp-content/uploads/2024/02/R-11.jpg
END:VEVENT
END:VCALENDAR