BEGIN:VCALENDAR
VERSION:2.0
PRODID:-//Woods N Water - ECPv6.15.20//NONSGML v1.0//EN
CALSCALE:GREGORIAN
METHOD:PUBLISH
X-WR-CALNAME:Woods N Water
X-ORIGINAL-URL:https://woodsnwater.org
X-WR-CALDESC:Events for Woods N Water
REFRESH-INTERVAL;VALUE=DURATION:PT1H
X-Robots-Tag:noindex
X-PUBLISHED-TTL:PT1H
BEGIN:VTIMEZONE
TZID:America/New_York
BEGIN:DAYLIGHT
TZOFFSETFROM:-0500
TZOFFSETTO:-0400
TZNAME:EDT
DTSTART:20240310T070000
END:DAYLIGHT
BEGIN:STANDARD
TZOFFSETFROM:-0400
TZOFFSETTO:-0500
TZNAME:EST
DTSTART:20241103T060000
END:STANDARD
BEGIN:DAYLIGHT
TZOFFSETFROM:-0500
TZOFFSETTO:-0400
TZNAME:EDT
DTSTART:20250309T070000
END:DAYLIGHT
BEGIN:STANDARD
TZOFFSETFROM:-0400
TZOFFSETTO:-0500
TZNAME:EST
DTSTART:20251102T060000
END:STANDARD
BEGIN:DAYLIGHT
TZOFFSETFROM:-0500
TZOFFSETTO:-0400
TZNAME:EDT
DTSTART:20260308T070000
END:DAYLIGHT
BEGIN:STANDARD
TZOFFSETFROM:-0400
TZOFFSETTO:-0500
TZNAME:EST
DTSTART:20261101T060000
END:STANDARD
END:VTIMEZONE
BEGIN:VEVENT
DTSTART;TZID=America/New_York:20250329T123000
DTEND;TZID=America/New_York:20250329T153000
DTSTAMP:20260424T100136
CREATED:20250313T212644Z
LAST-MODIFIED:20250313T212644Z
UID:2748-1743251400-1743262200@woodsnwater.org
SUMMARY:Surf Dog's Car Cruise
DESCRIPTION:Surf Dog is holding a car cruise day at their location March 29 12:30 – 3:30 with Woods n Water being the beneficiary of any donations for the day.\n\nSurf Dog is a great location to take your ride out for the day to enjoy it and show it off. Nice country roads\, great food\, live music\, indoor & outdoor seating\, good service and it is owned by a Vietnam Marine Veteran!!!\n\nWoods n water will be there to share information with everyone and will have some Woods n Water merchandise available for a donation.\nAny questions not addressed in this event\, please contact Surf Dog Bar & Grill. 609-427-6011
URL:https://woodsnwater.org/event/surf-dogs-car-cruise/
LOCATION:Surf Dog Bar and Grill\, 1563 Dehirsch Ave\, Woodbine\, NJ\, 08270\, United States
ATTACH;FMTTYPE=image/jpeg:https://woodsnwater.org/wp-content/uploads/2025/03/480482822_9287279847976279_2771156666635831238_n.jpg
ORGANIZER;CN="Woods N Water":MAILTO:GDaly@WoodsnWater.org
END:VEVENT
END:VCALENDAR