BEGIN:VCALENDAR
VERSION:2.0
PRODID:-//Woods N Water - ECPv6.15.20//NONSGML v1.0//EN
CALSCALE:GREGORIAN
METHOD:PUBLISH
X-ORIGINAL-URL:https://woodsnwater.org
X-WR-CALDESC:Events for Woods N Water
REFRESH-INTERVAL;VALUE=DURATION:PT1H
X-Robots-Tag:noindex
X-PUBLISHED-TTL:PT1H
BEGIN:VTIMEZONE
TZID:America/New_York
BEGIN:DAYLIGHT
TZOFFSETFROM:-0500
TZOFFSETTO:-0400
TZNAME:EDT
DTSTART:20230312T070000
END:DAYLIGHT
BEGIN:STANDARD
TZOFFSETFROM:-0400
TZOFFSETTO:-0500
TZNAME:EST
DTSTART:20231105T060000
END:STANDARD
BEGIN:DAYLIGHT
TZOFFSETFROM:-0500
TZOFFSETTO:-0400
TZNAME:EDT
DTSTART:20240310T070000
END:DAYLIGHT
BEGIN:STANDARD
TZOFFSETFROM:-0400
TZOFFSETTO:-0500
TZNAME:EST
DTSTART:20241103T060000
END:STANDARD
BEGIN:DAYLIGHT
TZOFFSETFROM:-0500
TZOFFSETTO:-0400
TZNAME:EDT
DTSTART:20250309T070000
END:DAYLIGHT
BEGIN:STANDARD
TZOFFSETFROM:-0400
TZOFFSETTO:-0500
TZNAME:EST
DTSTART:20251102T060000
END:STANDARD
END:VTIMEZONE
BEGIN:VEVENT
DTSTART;TZID=America/New_York:20241016T183000
DTEND;TZID=America/New_York:20241016T213000
DTSTAMP:20260424T173919
CREATED:20241003T222820Z
LAST-MODIFIED:20241003T222820Z
UID:2523-1729103400-1729114200@woodsnwater.org
SUMMARY:Bowling & Buffet for Veterans
DESCRIPTION:Once again Building Contractors of South Jersey would like to sponsor a FREE night of bowling\, food and camaraderie for all Veterans and Activre Duty Members of the Armed Forces!\n\n\nThese events are always a good time\, laid back and complete with tasty food. All fees are covered for our Nation’s Heroes. If you would like to bring family\, they are welcome as well.\n\n\nBe sure to register on Eventbrite!!!! When registering\, be sure to read ALL the details\, instructions and questions being asked. Simply click on tickets/free to be directed to the registration.
URL:https://woodsnwater.org/event/bowling-buffet-for-veterans-3/
LOCATION:DiDonato Familyh Fun Center\, 1151 S White Horse Pike\, Hammonton\, 115108037-1023\, United States
ATTACH;FMTTYPE=image/jpeg:https://woodsnwater.org/wp-content/uploads/2024/10/20241003_1302071.jpg
ORGANIZER;CN="Woods N Water":MAILTO:GDaly@WoodsnWater.org
END:VEVENT
END:VCALENDAR