BEGIN:VCALENDAR
VERSION:2.0
PRODID:-//Woods N Water - ECPv6.15.20//NONSGML v1.0//EN
CALSCALE:GREGORIAN
METHOD:PUBLISH
X-ORIGINAL-URL:https://woodsnwater.org
X-WR-CALDESC:Events for Woods N Water
REFRESH-INTERVAL;VALUE=DURATION:PT1H
X-Robots-Tag:noindex
X-PUBLISHED-TTL:PT1H
BEGIN:VTIMEZONE
TZID:America/New_York
BEGIN:DAYLIGHT
TZOFFSETFROM:-0500
TZOFFSETTO:-0400
TZNAME:EDT
DTSTART:20250309T070000
END:DAYLIGHT
BEGIN:STANDARD
TZOFFSETFROM:-0400
TZOFFSETTO:-0500
TZNAME:EST
DTSTART:20251102T060000
END:STANDARD
BEGIN:DAYLIGHT
TZOFFSETFROM:-0500
TZOFFSETTO:-0400
TZNAME:EDT
DTSTART:20260308T070000
END:DAYLIGHT
BEGIN:STANDARD
TZOFFSETFROM:-0400
TZOFFSETTO:-0500
TZNAME:EST
DTSTART:20261101T060000
END:STANDARD
BEGIN:DAYLIGHT
TZOFFSETFROM:-0500
TZOFFSETTO:-0400
TZNAME:EDT
DTSTART:20270314T070000
END:DAYLIGHT
BEGIN:STANDARD
TZOFFSETFROM:-0400
TZOFFSETTO:-0500
TZNAME:EST
DTSTART:20271107T060000
END:STANDARD
END:VTIMEZONE
BEGIN:VEVENT
DTSTART;TZID=America/New_York:20260425T080000
DTEND;TZID=America/New_York:20260425T120000
DTSTAMP:20260423T153205
CREATED:20260420T102237Z
LAST-MODIFIED:20260420T102237Z
UID:3473-1777104000-1777118400@woodsnwater.org
SUMMARY:Community Day with The Nature Conservancy
DESCRIPTION:The Nature Conservancy is holding a Community Day event at the Maurice River Bluffs and has invited Woods n Water (WnW) to be part of it by guiding a hike/ruck staring at 8:00 am. There will be bottled water and healthy snacks offered to participants. If you have a ruck sack\, bring it with you. If not\, come as you are!!!\nAs with all hiking/rucking\, dress for the weather and wear footwearhttps://tnc.app.box.com/s/5cpyhunwgn25znoraa2t2v0h6d5wq4ir?fbclid=IwY2xjawRS3XRleHRuA2FlbQIxMQBzcnRjBmFwcF9pZBAyMjIwMzkxNzg4MjAwODkyAAEe5D_LUmjxN4fAwAB74Q-C10Do51ivtVvlk65IyZyf79USjOzA_gHigKiAysk_aem_paELfSdWzjBoOPcUonViFQ that provide support for hiking. For those bringing a ruck sack\, put at least 22lbs in it. We will discuss its symbolism while on the trails.\n\nThe hike/ruck will be approximately 3 miles enjoying the beauty of nature at the Bluffs. The trails are very well maintained\, several resting spots along the way\, scenic and holds history.\n\nIn addition to the WnW guided hike/ruck\, there will be a Beginner’s Birder Walk\, Beginners Hike and the City Nature Challenge!
URL:https://woodsnwater.org/event/community-day-with-the-nature-conservancy/
LOCATION:Maurice River Bluffs\, 1311 Silver Run Rd\, Millville\, NJ\, 08332\, United States
ATTACH;FMTTYPE=image/jpeg:https://woodsnwater.org/wp-content/uploads/2026/04/Screenshot_20260419_213105_Drive-1.jpg
ORGANIZER;CN="Woods N Water":MAILTO:GDaly@WoodsnWater.org
END:VEVENT
END:VCALENDAR