BEGIN:VCALENDAR
VERSION:2.0
PRODID:-//Woods N Water - ECPv6.15.20//NONSGML v1.0//EN
CALSCALE:GREGORIAN
METHOD:PUBLISH
X-ORIGINAL-URL:https://woodsnwater.org
X-WR-CALDESC:Events for Woods N Water
REFRESH-INTERVAL;VALUE=DURATION:PT1H
X-Robots-Tag:noindex
X-PUBLISHED-TTL:PT1H
BEGIN:VTIMEZONE
TZID:America/New_York
BEGIN:DAYLIGHT
TZOFFSETFROM:-0500
TZOFFSETTO:-0400
TZNAME:EDT
DTSTART:20220313T070000
END:DAYLIGHT
BEGIN:STANDARD
TZOFFSETFROM:-0400
TZOFFSETTO:-0500
TZNAME:EST
DTSTART:20221106T060000
END:STANDARD
BEGIN:DAYLIGHT
TZOFFSETFROM:-0500
TZOFFSETTO:-0400
TZNAME:EDT
DTSTART:20230312T070000
END:DAYLIGHT
BEGIN:STANDARD
TZOFFSETFROM:-0400
TZOFFSETTO:-0500
TZNAME:EST
DTSTART:20231105T060000
END:STANDARD
BEGIN:DAYLIGHT
TZOFFSETFROM:-0500
TZOFFSETTO:-0400
TZNAME:EDT
DTSTART:20240310T070000
END:DAYLIGHT
BEGIN:STANDARD
TZOFFSETFROM:-0400
TZOFFSETTO:-0500
TZNAME:EST
DTSTART:20241103T060000
END:STANDARD
END:VTIMEZONE
BEGIN:VEVENT
DTSTART;TZID=America/New_York:20231125T093000
DTEND;TZID=America/New_York:20231125T120000
DTSTAMP:20260425T113439
CREATED:20231118T044257Z
LAST-MODIFIED:20231118T044257Z
UID:1837-1700904600-1700913600@woodsnwater.org
SUMMARY:Mission: Walk the Turkey Off #3
DESCRIPTION:It is hiking time again folks! \nRegister by clicking on ticketsWe are going to do an easy\, scenic hike through Parvin State Park to walk off all that food and desserts from Thanksgiving.As with all of our hikes\, we will provide bottled water & healthy snacks\, both before and after the hike.There will be (2) groups\, 1 with a faster pace & 1 with a slower leisure pace. \nPlease arrive by 9:30\, we will be there by 9:00\,so the earlier the better to mingle and sign in. We hit the trail by 10:00\nMeeting location is the parking lot across the street from the park office. \n  \nBe sure to register via Eventbrite by clicking on the link provide in this event
URL:https://woodsnwater.org/event/mission-walk-the-turkey-off-3/
LOCATION:Parvin State Park
ATTACH;FMTTYPE=image/jpeg:https://woodsnwater.org/wp-content/uploads/2022/10/308412898_396351206000626_3282046506745782761_n.jpg
ORGANIZER;CN="Woods N Water":MAILTO:GDaly@WoodsnWater.org
END:VEVENT
END:VCALENDAR