BEGIN:VCALENDAR
VERSION:2.0
PRODID:-//Woods N Water - ECPv6.15.20//NONSGML v1.0//EN
CALSCALE:GREGORIAN
METHOD:PUBLISH
X-WR-CALNAME:Woods N Water
X-ORIGINAL-URL:https://woodsnwater.org
X-WR-CALDESC:Events for Woods N Water
REFRESH-INTERVAL;VALUE=DURATION:PT1H
X-Robots-Tag:noindex
X-PUBLISHED-TTL:PT1H
BEGIN:VTIMEZONE
TZID:America/New_York
BEGIN:DAYLIGHT
TZOFFSETFROM:-0500
TZOFFSETTO:-0400
TZNAME:EDT
DTSTART:20230312T070000
END:DAYLIGHT
BEGIN:STANDARD
TZOFFSETFROM:-0400
TZOFFSETTO:-0500
TZNAME:EST
DTSTART:20231105T060000
END:STANDARD
BEGIN:DAYLIGHT
TZOFFSETFROM:-0500
TZOFFSETTO:-0400
TZNAME:EDT
DTSTART:20240310T070000
END:DAYLIGHT
BEGIN:STANDARD
TZOFFSETFROM:-0400
TZOFFSETTO:-0500
TZNAME:EST
DTSTART:20241103T060000
END:STANDARD
BEGIN:DAYLIGHT
TZOFFSETFROM:-0500
TZOFFSETTO:-0400
TZNAME:EDT
DTSTART:20250309T070000
END:DAYLIGHT
BEGIN:STANDARD
TZOFFSETFROM:-0400
TZOFFSETTO:-0500
TZNAME:EST
DTSTART:20251102T060000
END:STANDARD
END:VTIMEZONE
BEGIN:VEVENT
DTSTART;TZID=America/New_York:20241222T093000
DTEND;TZID=America/New_York:20241222T113000
DTSTAMP:20260424T143348
CREATED:20241202T195512Z
LAST-MODIFIED:20241204T165512Z
UID:2672-1734859800-1734867000@woodsnwater.org
SUMMARY:South Cape May Meadows Hike/Ruck
DESCRIPTION:Join us for an easy scenic hike/ruck at the South Cape May Meadows Trails. This is a very easy low impact hike/ruck. \nThe SCM Meadows offers scenery\, feathered wildlife easy flat trails and connects with the Cape May Point State Park.We will start at Meadows make our way to the state park and visit the lighthouse & the WWII Bunker then make our way back to Meadows to make our way back to our starting point. \nWe will be offering two groups to better accommodate different interests. One group will be more of a leisure walk with a guide from the Nature Conservancy offering information about the Meadows\, the wildlife there and its vegetation. The other group will be a more fast pace and longer hike/ruck. \nFor those wishing to ruck\, we encourage you throw 22lbs in your ruck sack to honor the Heroes that we lose to suicide. According to a research done\, on average\, 22 Veterans die by suicide each day. We lose more of our Nation’s Heroes to suicide than we do to their time in service. This includes military\, police\, firefighters and EMS! Please reach out if you need someone to talk to. \nIf you are having a mental health crisis or a love one is\, please call 988. All are welcome to join us – Veterans\, Active Duty\, First Responders\, civilians.
URL:https://woodsnwater.org/event/south-cape-may-meadows-hike-ruck/
LOCATION:South Cape May Meadows\, 692 Sunset Blvd\, Cape May\, NJ\, 08024\, United States
ATTACH;FMTTYPE=image/jpeg:https://woodsnwater.org/wp-content/uploads/2024/12/R-5.jpg
ORGANIZER;CN="Woods N Water":MAILTO:GDaly@WoodsnWater.org
END:VEVENT
END:VCALENDAR