BEGIN:VCALENDAR
VERSION:2.0
PRODID:-//Woods N Water - ECPv6.15.20//NONSGML v1.0//EN
CALSCALE:GREGORIAN
METHOD:PUBLISH
X-ORIGINAL-URL:https://woodsnwater.org
X-WR-CALDESC:Events for Woods N Water
REFRESH-INTERVAL;VALUE=DURATION:PT1H
X-Robots-Tag:noindex
X-PUBLISHED-TTL:PT1H
BEGIN:VTIMEZONE
TZID:America/New_York
BEGIN:DAYLIGHT
TZOFFSETFROM:-0500
TZOFFSETTO:-0400
TZNAME:EDT
DTSTART:20240310T070000
END:DAYLIGHT
BEGIN:STANDARD
TZOFFSETFROM:-0400
TZOFFSETTO:-0500
TZNAME:EST
DTSTART:20241103T060000
END:STANDARD
BEGIN:DAYLIGHT
TZOFFSETFROM:-0500
TZOFFSETTO:-0400
TZNAME:EDT
DTSTART:20250309T070000
END:DAYLIGHT
BEGIN:STANDARD
TZOFFSETFROM:-0400
TZOFFSETTO:-0500
TZNAME:EST
DTSTART:20251102T060000
END:STANDARD
BEGIN:DAYLIGHT
TZOFFSETFROM:-0500
TZOFFSETTO:-0400
TZNAME:EDT
DTSTART:20260308T070000
END:DAYLIGHT
BEGIN:STANDARD
TZOFFSETFROM:-0400
TZOFFSETTO:-0500
TZNAME:EST
DTSTART:20261101T060000
END:STANDARD
END:VTIMEZONE
BEGIN:VEVENT
DTSTART;TZID=America/New_York:20250518T093000
DTEND;TZID=America/New_York:20250518T123000
DTSTAMP:20260424T070355
CREATED:20250321T025713Z
LAST-MODIFIED:20250321T025713Z
UID:2751-1747560600-1747571400@woodsnwater.org
SUMMARY:Maurice River Bluffs Ruck/Hike
DESCRIPTION:We will meet at the Maurice River Bluffs parking lot\, get acquainted\, hydrate\, grab a healthy snack\, pledge allegiance to our great Flag then hit the trails. \nWe provide bottled water\, fruit\, protein bars and other healthy snacks. FREE to all attending. We hit the trails by 10:00am. \nMaurice River Bluffs is one of our favorites. Such a beautiful location with well maintained trails that offer both an easy hike and a challenging hike. In addition to scenery\, this location holds some history and wildlife. \n  \n***Please register via Eventbrite by simply clicking on the link provided*** \nThere will be two groups to choose from. The Ruck Group\, which will be a fast paced hike\, with challenging terrain. If you have a ruck sack\, please bring it. For those interested\, we are asking those with a ruck sack to put 22lbs (20-25) to represent the 22 a day.\nThe Hike Group will have a leisure pace with mostly flat terrain.
URL:https://woodsnwater.org/event/maurice-river-bluffs-ruck-hike/
LOCATION:Maurice River Bluffs\, 1311 Silver Run Rd\, Millville\, NJ\, 08332\, United States
ATTACH;FMTTYPE=image/webp:https://woodsnwater.org/wp-content/uploads/2024/10/4px-BW84_n0QJGVPszge3NRBsKw-2VcOifrJIjPYFYkOtaCZxxXQ2bC8Box1CJQ44itum2z1CFX4Ru4Nx2n6ZHy_cfIU27ay9I0QOCIAtDMKoF0bUpTHpw.webp
ORGANIZER;CN="Woods N Water":MAILTO:GDaly@WoodsnWater.org
END:VEVENT
END:VCALENDAR