BEGIN:VCALENDAR
VERSION:2.0
PRODID:-//Woods N Water - ECPv6.15.20//NONSGML v1.0//EN
CALSCALE:GREGORIAN
METHOD:PUBLISH
X-ORIGINAL-URL:https://woodsnwater.org
X-WR-CALDESC:Events for Woods N Water
REFRESH-INTERVAL;VALUE=DURATION:PT1H
X-Robots-Tag:noindex
X-PUBLISHED-TTL:PT1H
BEGIN:VTIMEZONE
TZID:America/New_York
BEGIN:DAYLIGHT
TZOFFSETFROM:-0500
TZOFFSETTO:-0400
TZNAME:EDT
DTSTART:20250309T070000
END:DAYLIGHT
BEGIN:STANDARD
TZOFFSETFROM:-0400
TZOFFSETTO:-0500
TZNAME:EST
DTSTART:20251102T060000
END:STANDARD
BEGIN:DAYLIGHT
TZOFFSETFROM:-0500
TZOFFSETTO:-0400
TZNAME:EDT
DTSTART:20260308T070000
END:DAYLIGHT
BEGIN:STANDARD
TZOFFSETFROM:-0400
TZOFFSETTO:-0500
TZNAME:EST
DTSTART:20261101T060000
END:STANDARD
BEGIN:DAYLIGHT
TZOFFSETFROM:-0500
TZOFFSETTO:-0400
TZNAME:EDT
DTSTART:20270314T070000
END:DAYLIGHT
BEGIN:STANDARD
TZOFFSETFROM:-0400
TZOFFSETTO:-0500
TZNAME:EST
DTSTART:20271107T060000
END:STANDARD
END:VTIMEZONE
BEGIN:VEVENT
DTSTART;TZID=America/New_York:20260207T083000
DTEND;TZID=America/New_York:20260207T110000
DTSTAMP:20260423T172938
CREATED:20260108T055520Z
LAST-MODIFIED:20260108T055520Z
UID:3381-1770453000-1770462000@woodsnwater.org
SUMMARY:Belleplain Hike/Ruck
DESCRIPTION:Join us for our 2nd hike/ruck event of 2026!\n\nThe goal is 3-5 miles\, though we ended up doing 6.2 miles at the Edwin B Forsythe National Wildlife Refuge last month – haha.\n\nIf you are comfortable wearing a ruck sack\, GREAT! If not\, that is fine as well. For those that wear a ruck sack\, we ask that you have at least 22lbs of weight in it in honor of the 22 Veterans a day that die by suicide as well as the First Responders. Across the board\, more of our Nation’s Heroes die by suicide than during their time of service.\nhttps://tnc.app.box.com/s/5cpyhunwgn25znoraa2t2v0h6d5wq4ir?fbclid=IwY2xjawPMJS9leHRuA2FlbQIxMQBzcnRjBmFwcF9pZBAyMjIwMzkxNzg4MjAwODkyAAEeYwWpS23R6vGv7NflAXFaBBiFqKYCxWPzLPhE1JOxCUB1oItHnlK_Wv-W8TI_aem_9LzCqEQPCVt9JKXaAuwOSg\nBelleplain State Forest has well maintained scenic trails. We will meet in the parking lot at the Concession Beach by Lake Nummy. Bottled water and snacks will be provided.\n\nThere will be Woods n Water directional signs in place starting at the main entrance (the address provided).
URL:https://woodsnwater.org/event/belleplain-hike-ruck/
LOCATION:Belleplain State Park\, 1 Henkinsifkin Road\, Woodbine\, NJ\, 08270\, United States
ATTACH;FMTTYPE=image/jpeg:https://woodsnwater.org/wp-content/uploads/2026/01/img_4_1754841525963.jpg
ORGANIZER;CN="Woods N Water":MAILTO:GDaly@WoodsnWater.org
END:VEVENT
END:VCALENDAR