BEGIN:VCALENDAR
VERSION:2.0
PRODID:-//Woods N Water - ECPv6.15.20//NONSGML v1.0//EN
CALSCALE:GREGORIAN
METHOD:PUBLISH
X-ORIGINAL-URL:https://woodsnwater.org
X-WR-CALDESC:Events for Woods N Water
REFRESH-INTERVAL;VALUE=DURATION:PT1H
X-Robots-Tag:noindex
X-PUBLISHED-TTL:PT1H
BEGIN:VTIMEZONE
TZID:America/New_York
BEGIN:DAYLIGHT
TZOFFSETFROM:-0500
TZOFFSETTO:-0400
TZNAME:EDT
DTSTART:20230312T070000
END:DAYLIGHT
BEGIN:STANDARD
TZOFFSETFROM:-0400
TZOFFSETTO:-0500
TZNAME:EST
DTSTART:20231105T060000
END:STANDARD
BEGIN:DAYLIGHT
TZOFFSETFROM:-0500
TZOFFSETTO:-0400
TZNAME:EDT
DTSTART:20240310T070000
END:DAYLIGHT
BEGIN:STANDARD
TZOFFSETFROM:-0400
TZOFFSETTO:-0500
TZNAME:EST
DTSTART:20241103T060000
END:STANDARD
BEGIN:DAYLIGHT
TZOFFSETFROM:-0500
TZOFFSETTO:-0400
TZNAME:EDT
DTSTART:20250309T070000
END:DAYLIGHT
BEGIN:STANDARD
TZOFFSETFROM:-0400
TZOFFSETTO:-0500
TZNAME:EST
DTSTART:20251102T060000
END:STANDARD
END:VTIMEZONE
BEGIN:VEVENT
DTSTART;TZID=America/New_York:20240309T110000
DTEND;TZID=America/New_York:20240309T160000
DTSTAMP:20260425T062423
CREATED:20240223T194850Z
LAST-MODIFIED:20240223T194850Z
UID:2040-1709982000-1710000000@woodsnwater.org
SUMMARY:Hero Skeet Shoot
DESCRIPTION:Once again\, our friends at Pioneer Sportsman reached out and invited us to bring our Nation’s Heroes out for a day of skeet shooting. Last year was incredible! The Pioneer crew organized a great event and wait until you see their clubhouse. \nAs with all of our events\, this is a FREE event. Shotguns\, ammo\, clays\, lunch\, bottles of water\, coffee and hot chocolate will be provided. If you have your own shotgun\, you are welcome to bring it. If you would like any other beverage\, you will need to provide it. \nDirections to event location: (location shown on event map is NOT the event location)\nWe will set up Woods n Water directional signs where possible. Please copy the directions provided to assist you. We will be at the Fire & EMS Station at 1030. If you arrive there\, we can follow each other there. \nFrom Woodland Volunteer Fire & EMS Station#1 (3991 County Rd 563\, Chatsworth\, NJ 08019 – corner of 532 & Main St)\nFrom station parking lot\, turn right onto Main St (New Gretna Chatsworth Rd/Rt 563)\nIn about 3/4 of a mile\, bear right at fork in the road\, continuing on New Gretna Chatsworth Rd/Rt 563 for another 3 miles\nTurn right onto Friendship Speedwell Rd for 1.3 miles\nTurn left at the 2nd left onto Eagle Rd for 1.1 miles to Old Oak Tree\nTurn right at Old Oak Tree\, event location is 1/4 of a mile on the left. \nFrom Carranza Memorial Monument\nFrom monument with it on your right (Carranza Rd) travel 3.3 miles\nAfter crossing a bridge\, turn left at Friendship Historic Ruins onto Friendship Speedwell Rd for 1.2 miles\nTurn right at the first right onto Eagle Rd for 1.1 miles to Old Oak Tree\nTurn right onto Old Oak Tree\, event location is 1/4 of a mile on the left.
URL:https://woodsnwater.org/event/hero-skeet-shoot/
LOCATION:Woodland Volunteer Fire & EMS  Station\, 3991 County Rd 563\, Chatsworth\, NJ\, 08019\, United States
ATTACH;FMTTYPE=image/jpeg:https://woodsnwater.org/wp-content/uploads/2024/02/20240130_1121221.jpg
ORGANIZER;CN="Woods N Water":MAILTO:GDaly@WoodsnWater.org
END:VEVENT
BEGIN:VEVENT
DTSTART;TZID=America/New_York:20240309T163000
DTEND;TZID=America/New_York:20240309T220000
DTSTAMP:20260425T062423
CREATED:20240224T142520Z
LAST-MODIFIED:20240224T142520Z
UID:2044-1710001800-1710021600@woodsnwater.org
SUMMARY:Camaraderie Campfire II
DESCRIPTION:Woods n Water would like to invite our Nation’s Heroes out for camaraderie\, a campfire and nature.\n\nWe have been holding Combat Campfires for a while now. We are now going to begin holding Camaraderie Campfires as well\, providing bottled water\, coffee\, snacks\, dinner and firewood.\n\n\n**Please register via Eventbrite. **\nhttps://www.eventbrite.com/e/camaraderie-campfire-tickets-850016541357?aff=affiliate1\n\n\nYou may arrive any time after 1400\, but we will have the fire going\, coffee & snacks ready by 1630 and chow at approximately 1700. There is no set time when it will end. That will depend on you. There will be cornhole toss set up for those that wish to arrive early and get some games in before night fall.\n\nThe objective of the event is to thank you for your service\, as well as offer you an opportunity to discover resources and support available to you. Some seating will be provided. If possible\, please bring an outdoor chair. There is no alcohol or drugs permitted in state parks.\nWe look forward to seeing you there!
URL:https://woodsnwater.org/event/camaraderie-campfire-ii/
LOCATION:Belleplain State Park\, 1 Henkinsifkin Road\, Woodbine\, NJ\, 08270\, United States
ATTACH;FMTTYPE=image/jpeg:https://woodsnwater.org/wp-content/uploads/2024/02/20240217_175854-scaled.jpg
ORGANIZER;CN="Woods N Water":MAILTO:GDaly@WoodsnWater.org
END:VEVENT
END:VCALENDAR