BEGIN:VCALENDAR
VERSION:2.0
PRODID:-//Woods N Water - ECPv6.15.20//NONSGML v1.0//EN
CALSCALE:GREGORIAN
METHOD:PUBLISH
X-WR-CALNAME:Woods N Water
X-ORIGINAL-URL:https://woodsnwater.org
X-WR-CALDESC:Events for Woods N Water
REFRESH-INTERVAL;VALUE=DURATION:PT1H
X-Robots-Tag:noindex
X-PUBLISHED-TTL:PT1H
BEGIN:VTIMEZONE
TZID:America/New_York
BEGIN:DAYLIGHT
TZOFFSETFROM:-0500
TZOFFSETTO:-0400
TZNAME:EDT
DTSTART:20230312T070000
END:DAYLIGHT
BEGIN:STANDARD
TZOFFSETFROM:-0400
TZOFFSETTO:-0500
TZNAME:EST
DTSTART:20231105T060000
END:STANDARD
BEGIN:DAYLIGHT
TZOFFSETFROM:-0500
TZOFFSETTO:-0400
TZNAME:EDT
DTSTART:20240310T070000
END:DAYLIGHT
BEGIN:STANDARD
TZOFFSETFROM:-0400
TZOFFSETTO:-0500
TZNAME:EST
DTSTART:20241103T060000
END:STANDARD
BEGIN:DAYLIGHT
TZOFFSETFROM:-0500
TZOFFSETTO:-0400
TZNAME:EDT
DTSTART:20250309T070000
END:DAYLIGHT
BEGIN:STANDARD
TZOFFSETFROM:-0400
TZOFFSETTO:-0500
TZNAME:EST
DTSTART:20251102T060000
END:STANDARD
END:VTIMEZONE
BEGIN:VEVENT
DTSTART;TZID=America/New_York:20240720T093000
DTEND;TZID=America/New_York:20240720T140000
DTSTAMP:20260424T222535
CREATED:20240607T185212Z
LAST-MODIFIED:20240607T185212Z
UID:2192-1721467800-1721484000@woodsnwater.org
SUMMARY:Scuba Diving Discovery Class
DESCRIPTION:This event is for Veterans/Active Duty Members of the Armed Forces\, First Responders and one of their family members (includes a friend). There is a limit of (12) total participants\, (6) in each class. Depending on the amount of registrations\, there may be an opportunity for more than one member to accompany the Hero.\n\nThe purpose of the Discover Course is to provide a scuba diving experience in a safe environment with trained and certified instructors. This is NOT a certification course! The course is for beginners that would like to see if they may have an interest in scuba diving.\n\nIndividuals that complete the course and feel that they would like to pursue scuba diving\, may have an opportunity to take certification courses in the future\, as well as participate in future diving trips both locally and out of the State of New Jersey.\n\n*** BE SURE TO REGISTER VIA EVENTBRITE!!! ***\n\nThere are two (2) classes being offered that are approximately 1 and a half hour long.Please let us know if you have any equipment you plan on using. If you already have mask\, snorkel\, and fins\, please bring them with you. If not\, don’t worry\, we will have a set for you to use! We will need height\, weight\, and shoe size for all divers for BCD and neoprene vest size.Divers should wear a swimsuit with a shirt or sun shirt. A light weight wetsuit is a good idea if they have one. It is a heated pool but divers may get chilly after some time in water. A towel and change of clothes is suggested as well.\n\nThe pool is located at Giant Fitness (120 Britton Place\, Voorhees\, NJ 08043). When you arrive\, please check in at the front desk. From there\, make your way to the pool and let us know you are present. We will guide you from there.\n\nPlease arrive by the time provided with the class that you register for and PLEASE be sure to make the class or cancel your registration as soon as you know you will not make it so others will have an opportunity.\n\n** BE SURE TO REGISTER VIA EVENTBRITE!!! Simply click on the link provided on this event to take you to registration.
URL:https://woodsnwater.org/event/scuba-diving-discovery-class/
LOCATION:Giant Fitness\, 120 Britton Place\, Vorhees\, NJ\, 08043
ATTACH;FMTTYPE=image/jpeg:https://woodsnwater.org/wp-content/uploads/2024/06/R.jpg
ORGANIZER;CN="Woods N Water":MAILTO:GDaly@WoodsnWater.org
END:VEVENT
BEGIN:VEVENT
DTSTART;TZID=America/New_York:20240728T050000
DTEND;TZID=America/New_York:20240728T130000
DTSTAMP:20260424T222535
CREATED:20240228T034123Z
LAST-MODIFIED:20240228T034123Z
UID:2046-1722142800-1722171600@woodsnwater.org
SUMMARY:Mission: Hero Bass Fishing Derby - Carnegie Lake
DESCRIPTION:Woods ~n~ Water is holding a boat fishing event for our Nation’s Heroes.\n\nIf you are a Veteran/Active Duty member of the Armed Forces or a First Responder\, please join us for a day of fishing\, camaraderie and friendly competition. Everything is FREE!\n\nIf you have your own gear\, bring it. If not\, we will provide what you need to have a good day on the water boat fishing. We will pair you up with a volunteer with a boat and angler experience to see which boat team will have bragging rights for the day.\n\nCategories:\n(5) 12″ Bass limit\nBig Bass\nBig Miscellaneous\nBig Panfish\n\n\nVolunteers with a boat and fishing experience are wanted!!! Please register and we will pair you up with one of our Nation’s Heroes for an opportunity to show appreciation for their service and to provide a therapeutic day on the water. What better way to give back than to do something that you enjoy? Every day\, individuals that serve this great country die by suicide because of their time in service.\nEvents like these have a positive impact on mental health with studies done to prove that they do. Be part of a Hero’s journey to better mental health.\n\n\n**Please be sure to register via Eventbrite\, by simply clicking on the “tickets/admission” icon in this event**\n\n\nAre you a Veterans or first Responders that have a boat we will pair you up with another Hero. If you have a friend or family member with a boat and would like to fish together\, we encourage you to join us.\nWe ask that everyone arrive on time or earlier\, sign in\, enjoy some coffee\, water\, snacks/bagels\, get acquainted with everyone and hit the water by 0630. Everyone is to be back at the ramp by 2:00pm\, weigh your catch\, release your catch\, then start busting chops about who won what.\n\n**Please be sure to register via Eventbrite by simply clicking on the “tickets/admission” icon
URL:https://woodsnwater.org/event/mission-hero-bass-fishing-derby-carnegie-lake/
LOCATION:Carnegie Lake\, 40.36682400\, -74.62580100\, Princeton\, NJ\, 08540\, United States
ATTACH;FMTTYPE=image/jpeg:https://woodsnwater.org/wp-content/uploads/2024/02/305663821_384833957152351_5656978304805059164_n.jpg
ORGANIZER;CN="Woods N Water":MAILTO:GDaly@WoodsnWater.org
END:VEVENT
END:VCALENDAR