BEGIN:VCALENDAR
VERSION:2.0
PRODID:-//Woods N Water - ECPv6.15.20//NONSGML v1.0//EN
CALSCALE:GREGORIAN
METHOD:PUBLISH
X-WR-CALNAME:Woods N Water
X-ORIGINAL-URL:https://woodsnwater.org
X-WR-CALDESC:Events for Woods N Water
REFRESH-INTERVAL;VALUE=DURATION:PT1H
X-Robots-Tag:noindex
X-PUBLISHED-TTL:PT1H
BEGIN:VTIMEZONE
TZID:America/New_York
BEGIN:DAYLIGHT
TZOFFSETFROM:-0500
TZOFFSETTO:-0400
TZNAME:EDT
DTSTART:20230312T070000
END:DAYLIGHT
BEGIN:STANDARD
TZOFFSETFROM:-0400
TZOFFSETTO:-0500
TZNAME:EST
DTSTART:20231105T060000
END:STANDARD
BEGIN:DAYLIGHT
TZOFFSETFROM:-0500
TZOFFSETTO:-0400
TZNAME:EDT
DTSTART:20240310T070000
END:DAYLIGHT
BEGIN:STANDARD
TZOFFSETFROM:-0400
TZOFFSETTO:-0500
TZNAME:EST
DTSTART:20241103T060000
END:STANDARD
BEGIN:DAYLIGHT
TZOFFSETFROM:-0500
TZOFFSETTO:-0400
TZNAME:EDT
DTSTART:20250309T070000
END:DAYLIGHT
BEGIN:STANDARD
TZOFFSETFROM:-0400
TZOFFSETTO:-0500
TZNAME:EST
DTSTART:20251102T060000
END:STANDARD
END:VTIMEZONE
BEGIN:VEVENT
DTSTART;TZID=America/New_York:20241016T183000
DTEND;TZID=America/New_York:20241016T213000
DTSTAMP:20260424T173527
CREATED:20241003T222820Z
LAST-MODIFIED:20241003T222820Z
UID:2523-1729103400-1729114200@woodsnwater.org
SUMMARY:Bowling & Buffet for Veterans
DESCRIPTION:Once again Building Contractors of South Jersey would like to sponsor a FREE night of bowling\, food and camaraderie for all Veterans and Activre Duty Members of the Armed Forces!\n\n\nThese events are always a good time\, laid back and complete with tasty food. All fees are covered for our Nation’s Heroes. If you would like to bring family\, they are welcome as well.\n\n\nBe sure to register on Eventbrite!!!! When registering\, be sure to read ALL the details\, instructions and questions being asked. Simply click on tickets/free to be directed to the registration.
URL:https://woodsnwater.org/event/bowling-buffet-for-veterans-3/
LOCATION:DiDonato Familyh Fun Center\, 1151 S White Horse Pike\, Hammonton\, 115108037-1023\, United States
ATTACH;FMTTYPE=image/jpeg:https://woodsnwater.org/wp-content/uploads/2024/10/20241003_1302071.jpg
ORGANIZER;CN="Woods N Water":MAILTO:GDaly@WoodsnWater.org
END:VEVENT
BEGIN:VEVENT
DTSTART;TZID=America/New_York:20241020T163000
DTEND;TZID=America/New_York:20241020T220000
DTSTAMP:20260424T173527
CREATED:20241012T133206Z
LAST-MODIFIED:20241012T134032Z
UID:2535-1729441800-1729461600@woodsnwater.org
SUMMARY:Combat Campfire XVII
DESCRIPTION:Are you a Veteran or Active Duty Member of the Armed Forces and have been deployed to a Combat Zone? If so\, we welcome you home and invite you to join others that have been as well in sitting around a campfire\, breaking bread and shootin’ the shit ………. let the conversations and mood direct the night.\n\n\n*** Register on Eventbrite …… simply click on tickets/free on this event\n\n\nWe start the night at 1630\, but you are welcome to arrive when you can make it. It will last as long as y’all want it to (ending time is required for the event creation). At 1630\, there will be coffee\, bottled water and snacks; at 1700ish\, dinner will be served. We provide the campfire\, wood\, coffee\, bottles of water\, snacks and grub. All that y’all have to do is keep the fire going.\n\n\nBe sure to register on Eventbrite!!!!\n\n\nWoods ~n~ Water vets ALL Combat Campfire participants. If you have not been verified by a Woods ~n~ Water board member\, please provide proper documentation. There are instructions on how to do so in the registration process for those the need to.
URL:https://woodsnwater.org/event/combat-campfire-xvii/
LOCATION:Salem County Sportsman’s Club\, 273 U.S. Highway 40\, Penns Grove\, NJ\, 08069
ATTACH;FMTTYPE=image/jpeg:https://woodsnwater.org/wp-content/uploads/2024/08/CombatCampfire_22-3.jpg
ORGANIZER;CN="Woods N Water":MAILTO:GDaly@WoodsnWater.org
END:VEVENT
BEGIN:VEVENT
DTSTART;TZID=America/New_York:20241027T080000
DTEND;TZID=America/New_York:20241027T170000
DTSTAMP:20260424T173527
CREATED:20241004T153647Z
LAST-MODIFIED:20241004T153647Z
UID:2529-1730016000-1730048400@woodsnwater.org
SUMMARY:Mission: Ruck/hike it out
DESCRIPTION:This event is open to all of our Nation’s Heroes and those that appreciate them.\n\nIf you have not been to the Maurice River Bluffs\, we encourage you to join us for this event. The trails are well maintained\, the scenery is excellent and the history is very interesting.\n\nWe will have two options for this event. One for a casual hike through the trails and one for those of you that prefer a more challenging ruck.\n\nSo join us whether you ruck/hike for healing\, camaraderie\, to give back or for some good healthy activity in nature. If you would like to get involved and help carrying out our mission\, this is a good event to meet us and get acquainted.
URL:https://woodsnwater.org/event/mission-ruck-hike-it-out/
LOCATION:Maurice River Bluffs\, 1311 Silver Run Rd\, Millville\, NJ\, 08332\, United States
ATTACH;FMTTYPE=image/webp:https://woodsnwater.org/wp-content/uploads/2024/10/4px-BW84_n0QJGVPszge3NRBsKw-2VcOifrJIjPYFYkOtaCZxxXQ2bC8Box1CJQ44itum2z1CFX4Ru4Nx2n6ZHy_cfIU27ay9I0QOCIAtDMKoF0bUpTHpw.webp
ORGANIZER;CN="Woods N Water":MAILTO:GDaly@WoodsnWater.org
END:VEVENT
END:VCALENDAR