BEGIN:VCALENDAR
VERSION:2.0
PRODID:-//Woods N Water - ECPv6.15.20//NONSGML v1.0//EN
CALSCALE:GREGORIAN
METHOD:PUBLISH
X-WR-CALNAME:Woods N Water
X-ORIGINAL-URL:https://woodsnwater.org
X-WR-CALDESC:Events for Woods N Water
REFRESH-INTERVAL;VALUE=DURATION:PT1H
X-Robots-Tag:noindex
X-PUBLISHED-TTL:PT1H
BEGIN:VTIMEZONE
TZID:America/New_York
BEGIN:DAYLIGHT
TZOFFSETFROM:-0500
TZOFFSETTO:-0400
TZNAME:EDT
DTSTART:20250309T070000
END:DAYLIGHT
BEGIN:STANDARD
TZOFFSETFROM:-0400
TZOFFSETTO:-0500
TZNAME:EST
DTSTART:20251102T060000
END:STANDARD
BEGIN:DAYLIGHT
TZOFFSETFROM:-0500
TZOFFSETTO:-0400
TZNAME:EDT
DTSTART:20260308T070000
END:DAYLIGHT
BEGIN:STANDARD
TZOFFSETFROM:-0400
TZOFFSETTO:-0500
TZNAME:EST
DTSTART:20261101T060000
END:STANDARD
BEGIN:DAYLIGHT
TZOFFSETFROM:-0500
TZOFFSETTO:-0400
TZNAME:EDT
DTSTART:20270314T070000
END:DAYLIGHT
BEGIN:STANDARD
TZOFFSETFROM:-0400
TZOFFSETTO:-0500
TZNAME:EST
DTSTART:20271107T060000
END:STANDARD
END:VTIMEZONE
BEGIN:VEVENT
DTSTART;TZID=America/New_York:20260103T083000
DTEND;TZID=America/New_York:20260103T103000
DTSTAMP:20260423T185329
CREATED:20251221T113902Z
LAST-MODIFIED:20251221T113902Z
UID:3305-1767429000-1767436200@woodsnwater.org
SUMMARY:Start the New Year Healthy Hike
DESCRIPTION:Start 2026 right by joining us for a healthy hike/ruck!!!\nThis is open to all.\n\nWe will arrive at 8:30am\, get acquainted\, signed in\, then hit the trails at 9:00am.\n\nThis will be a hike/ruck event so feel free to bring a ruck sack or come without. The goal is to start 2026 healthy and enjoy the outdoors.\nWoods n Water will have bottled water and snacks available to all attending.
URL:https://woodsnwater.org/event/start-the-new-year-healthy-hike/
LOCATION:Edwin B. Forsythe Wildlife Refuge\, 800 Great Creek Rd\, Galloway\, NJ\, 08205\, United States
ATTACH;FMTTYPE=image/jpeg:https://woodsnwater.org/wp-content/uploads/2025/12/Screenshot-107.jpg
ORGANIZER;CN="Woods N Water":MAILTO:GDaly@WoodsnWater.org
END:VEVENT
END:VCALENDAR