BEGIN:VCALENDAR
VERSION:2.0
PRODID:-//Woods N Water - ECPv6.15.20//NONSGML v1.0//EN
CALSCALE:GREGORIAN
METHOD:PUBLISH
X-WR-CALNAME:Woods N Water
X-ORIGINAL-URL:https://woodsnwater.org
X-WR-CALDESC:Events for Woods N Water
REFRESH-INTERVAL;VALUE=DURATION:PT1H
X-Robots-Tag:noindex
X-PUBLISHED-TTL:PT1H
BEGIN:VTIMEZONE
TZID:America/New_York
BEGIN:DAYLIGHT
TZOFFSETFROM:-0500
TZOFFSETTO:-0400
TZNAME:EDT
DTSTART:20230312T070000
END:DAYLIGHT
BEGIN:STANDARD
TZOFFSETFROM:-0400
TZOFFSETTO:-0500
TZNAME:EST
DTSTART:20231105T060000
END:STANDARD
BEGIN:DAYLIGHT
TZOFFSETFROM:-0500
TZOFFSETTO:-0400
TZNAME:EDT
DTSTART:20240310T070000
END:DAYLIGHT
BEGIN:STANDARD
TZOFFSETFROM:-0400
TZOFFSETTO:-0500
TZNAME:EST
DTSTART:20241103T060000
END:STANDARD
BEGIN:DAYLIGHT
TZOFFSETFROM:-0500
TZOFFSETTO:-0400
TZNAME:EDT
DTSTART:20250309T070000
END:DAYLIGHT
BEGIN:STANDARD
TZOFFSETFROM:-0400
TZOFFSETTO:-0500
TZNAME:EST
DTSTART:20251102T060000
END:STANDARD
END:VTIMEZONE
BEGIN:VEVENT
DTSTART;TZID=America/New_York:20240906T163000
DTEND;TZID=America/New_York:20240906T230000
DTSTAMP:20260424T194902
CREATED:20240819T175659Z
LAST-MODIFIED:20240819T175659Z
UID:2383-1725640200-1725663600@woodsnwater.org
SUMMARY:Combat Campfire XVI
DESCRIPTION:This event is strictly for those that have been deployed to a Combat Zone.\n\n\nAre you a Veteran or Active Duty Member of the Armed Forces and have been deployed to a Combat Zone? If so\, we welcome you home and invite you to join others that have been as well in sitting around a campfire\, breaking bread and shootin’ the shit ………. let the conversations and mood direct the night.\n\n* BE SURE TO REGISTER VIA EVENTBRITE!!! * Simply click on tickets/free on this event to register\n\n\nWe start the night at 1630\, but you are welcome to arrive when you can make it. It will last as long as y’all want it to (ending time is required for the event creation). At 1630\, there will be coffee\, bottled water and snacks; at 1700ish\, dinner will be served. We provide the campfire\, wood\, coffee\, bottles of water\, snacks and grub. All that y’all have to do is keep the fire going\n\n\nWoods ~n~ Water vets ALL Combat Campfire participants. If you have not been verified by a Woods ~n~ Water board member\, please provide proper documentation. There are instructions on how to do so in the registration process for those the need to.\nBe sure to follow the instructions provided in the registration. There will be a more specific location provided\nFor those interested in camping overnight and possess a tent\, you are welcome to do so. FYI -there are very clean showers there.\n\n\nIf you have a mental health crisis\, PLEASE call 988
URL:https://woodsnwater.org/event/combat-campfire-xvi/
LOCATION:Lake Lenape\, 6303 Old Harding Highway\, Mays Landing\, NJ\, 08330\, United States
ATTACH;FMTTYPE=image/jpeg:https://woodsnwater.org/wp-content/uploads/2024/08/CombatCampfire_22-3.jpg
ORGANIZER;CN="Woods N Water":MAILTO:GDaly@WoodsnWater.org
END:VEVENT
BEGIN:VEVENT
DTSTART;TZID=America/New_York:20240908T090000
DTEND;TZID=America/New_York:20240908T120000
DTSTAMP:20260424T194902
CREATED:20240826T023233Z
LAST-MODIFIED:20240826T023233Z
UID:2391-1725786000-1725796800@woodsnwater.org
SUMMARY:Atlantic County Park Hike
DESCRIPTION:To all of our currently serving and Veterans of the US Armed Forces and First Responders\, join us for a hike at the well maintained trails at the Atlantic County Park. We will have some healthy snacks and bottled water for everyone. Just put on your favorite hiking attire & footwear and join us.\n\n\nWe can also visit the Veterans Cemetary that is located at the same location. Never forget our Heroes that have left us. Please arrive on time or earlier so that we don’t keep others waiting.\n\n\n*** Be sure to register via Eventbrite by clicking on the ticket/free of this event ***\n\n\nNot one of our Nation’s Heroes\, but like to show your appreciation to them or would like to be part of our Mission of serving those that have served us? Join us!!! Just show up at 8:30am to help set up\, get signed in\, get our Heroes signed in and get acquainted.\n\n\n*** Be sure to register by clicking on tickets/free of this event ***
URL:https://woodsnwater.org/event/atlantic-county-park-hike/
LOCATION:Atlantic County Park\, 109 Rte 50\, Mays Landing\, NJ\, 08330\, United States
ATTACH;FMTTYPE=image/jpeg:https://woodsnwater.org/wp-content/uploads/2024/08/AC_hiking.jpg
ORGANIZER;CN="Woods N Water":MAILTO:Woods.n.Water.20GDaly@gmail.com
END:VEVENT
BEGIN:VEVENT
DTSTART;TZID=America/New_York:20240922T073000
DTEND;TZID=America/New_York:20240922T150000
DTSTAMP:20260424T194902
CREATED:20240826T033420Z
LAST-MODIFIED:20240826T033452Z
UID:2396-1726990200-1727017200@woodsnwater.org
SUMMARY:Mission: Charter Boat Camaraderie
DESCRIPTION:Attention Heroes!!! \nJoin us for a Sunday charter boat fishing trip complete with cigars\, snacks\, lunch\, fishing gear and bait. All we need is you! Would you like to bring someone with you? SURE! There will be an option to add a person’s name in your registration process. If they do not want to fish\, no worries\, they can be inside the cabin relaxing\, snacking and enjoying conversartion with others not fishing. \n  \n*** Be sure to register via Eventbrite by clicking on the link provided in this event *** \nAccording to Captain Mike\, the fishing will be hot for this time of year. If we catch enough\, maybe we can have a fish fry after. It’s up to you to bring them on the boat! \nPlease be sure to make this event on time. We ask that you arrive earlier\, but definitely no later than 0730. We have to stay on schedule for this event\, so your punctuality is important. \n  \n*** Be sure to register via Eventbrite by clicking on the link provided in this event ***
URL:https://woodsnwater.org/event/mission-charter-boat-camaraderie/
LOCATION:Bonanza II\, Creek Ave\, Fortescue\, NJ\, 08321\, United States
ATTACH;FMTTYPE=image/jpeg:https://woodsnwater.org/wp-content/uploads/2024/08/Screenshot_20240825_224533_Google.jpg
ORGANIZER;CN="Woods N Water":MAILTO:GDaly@WoodsnWater.org
END:VEVENT
END:VCALENDAR