BEGIN:VCALENDAR
VERSION:2.0
PRODID:-//Woods N Water - ECPv6.15.20//NONSGML v1.0//EN
CALSCALE:GREGORIAN
METHOD:PUBLISH
X-WR-CALNAME:Woods N Water
X-ORIGINAL-URL:https://woodsnwater.org
X-WR-CALDESC:Events for Woods N Water
REFRESH-INTERVAL;VALUE=DURATION:PT1H
X-Robots-Tag:noindex
X-PUBLISHED-TTL:PT1H
BEGIN:VTIMEZONE
TZID:America/New_York
BEGIN:DAYLIGHT
TZOFFSETFROM:-0500
TZOFFSETTO:-0400
TZNAME:EDT
DTSTART:20240310T070000
END:DAYLIGHT
BEGIN:STANDARD
TZOFFSETFROM:-0400
TZOFFSETTO:-0500
TZNAME:EST
DTSTART:20241103T060000
END:STANDARD
BEGIN:DAYLIGHT
TZOFFSETFROM:-0500
TZOFFSETTO:-0400
TZNAME:EDT
DTSTART:20250309T070000
END:DAYLIGHT
BEGIN:STANDARD
TZOFFSETFROM:-0400
TZOFFSETTO:-0500
TZNAME:EST
DTSTART:20251102T060000
END:STANDARD
BEGIN:DAYLIGHT
TZOFFSETFROM:-0500
TZOFFSETTO:-0400
TZNAME:EDT
DTSTART:20260308T070000
END:DAYLIGHT
BEGIN:STANDARD
TZOFFSETFROM:-0400
TZOFFSETTO:-0500
TZNAME:EST
DTSTART:20261101T060000
END:STANDARD
END:VTIMEZONE
BEGIN:VEVENT
DTSTART;TZID=America/New_York:20251114T163000
DTEND;TZID=America/New_York:20251114T230000
DTSTAMP:20260423T214908
CREATED:20251017T180401Z
LAST-MODIFIED:20251017T184719Z
UID:3171-1763137800-1763161200@woodsnwater.org
SUMMARY:Combat Campfire
DESCRIPTION:Are you a Veteran or Active Duty Member of the Armed Forces and have been deployed to a Combat Zone?\nIf so\, we welcome you home and invite you to join us sitting around a campfire\, breaking bread and shootin’ the shit with others that have been as well ………. let the conversations and mood direct the night.\n\nThis will be our first time holding a Combat Campfire at a residence. An Army Combat Veteran has offered to hold one at his home after we expressed a desire to hold on in that area.\n\n*** you MUST register via Eventbrite. Simply click on tickets ***\n\nWe start the night at 1630\, but you are welcome to arrive when you can make it. It will last as long as y’all want it to (ending time is required for the event creation). At 1630\, there will be coffee\, bottled water and snacks; at 1700ish\, dinner will be served. We provide the campfire\, wood\, coffee\, bottles of water\, cigars\, snacks and grub. All that y’all have to do is keep the fire going. There is NO end time. The event shows an end time because they make us put something. It ends when y’all want it to end.\n\n*** you MUST register via Eventbrite. Simply click on tickets ***\n\nWoods ~n~ Water vets ALL Combat Campfire participants. If you have not been verified by a Woods ~n~ Water board member\, please provide proper documentation. There are instructions on how to do so in the registration process for those that need to.
URL:https://woodsnwater.org/event/combat-campfire-4/
LOCATION:147 Grandview Ave.\, Pitman\, NJ\, 147 Grandview Ave\, Pitman\, New Jersey\, 08071
ATTACH;FMTTYPE=image/jpeg:https://woodsnwater.org/wp-content/uploads/2025/10/Combat-Campfire.jpg
ORGANIZER;CN="Woods N Water":MAILTO:GDaly@WoodsnWater.org
END:VEVENT
BEGIN:VEVENT
DTSTART;TZID=America/New_York:20251121T163000
DTEND;TZID=America/New_York:20251121T223000
DTSTAMP:20260423T214908
CREATED:20251017T184615Z
LAST-MODIFIED:20251104T005508Z
UID:3175-1763742600-1763764200@woodsnwater.org
SUMMARY:Hero Clay Shoot
DESCRIPTION:Woods n Water invites all Active Duty/Veterans of the Armed Forces and First Responders to a night of trap shooting and camaraderie.\n\nWhether you are experienced or never have shot a firearm\, we welcome you to join us. There will be trained instructors to guide those that need it and to maintain safety for all.\n\nFirearms\, ammo\, clays\, snacks\, coffee\, bottled water and cigars will be provided. You are welcome to bring your 12 gauge shotgun and ammo\, if you desire.\n\n*** Register via Eventbrite! Simply click on tickets. ***\n\nThe event will start with an orientation and safety briefing. If priorities delay your arrival\, that is acceptable\, but please make every attempt to arrive as close to 1730 as possible. We intend on including your family members to these firearm events in the near future\, but for this one\, it is just for you.\n\nThere will be Woods n Water directional signs in place to guide you to our specific location once you arrive on the property. Please abide by the posted speed limit signs.\n\n*** Register via Eventbrite! Simply click on tickets. ***
URL:https://woodsnwater.org/event/hero-clay-shoot/
LOCATION:Salem County Sportsman’s Club\, 273 U.S. Highway 40\, Penns Grove\, NJ\, 08069
ATTACH;FMTTYPE=image/jpeg:https://woodsnwater.org/wp-content/uploads/2025/10/clay_shoot-scaled.jpg
ORGANIZER;CN="Woods N Water":MAILTO:GDaly@WoodsnWater.org
END:VEVENT
END:VCALENDAR