BEGIN:VCALENDAR
VERSION:2.0
PRODID:-//Woods N Water - ECPv6.15.20//NONSGML v1.0//EN
CALSCALE:GREGORIAN
METHOD:PUBLISH
X-WR-CALNAME:Woods N Water
X-ORIGINAL-URL:https://woodsnwater.org
X-WR-CALDESC:Events for Woods N Water
REFRESH-INTERVAL;VALUE=DURATION:PT1H
X-Robots-Tag:noindex
X-PUBLISHED-TTL:PT1H
BEGIN:VTIMEZONE
TZID:America/New_York
BEGIN:DAYLIGHT
TZOFFSETFROM:-0500
TZOFFSETTO:-0400
TZNAME:EDT
DTSTART:20240310T070000
END:DAYLIGHT
BEGIN:STANDARD
TZOFFSETFROM:-0400
TZOFFSETTO:-0500
TZNAME:EST
DTSTART:20241103T060000
END:STANDARD
BEGIN:DAYLIGHT
TZOFFSETFROM:-0500
TZOFFSETTO:-0400
TZNAME:EDT
DTSTART:20250309T070000
END:DAYLIGHT
BEGIN:STANDARD
TZOFFSETFROM:-0400
TZOFFSETTO:-0500
TZNAME:EST
DTSTART:20251102T060000
END:STANDARD
BEGIN:DAYLIGHT
TZOFFSETFROM:-0500
TZOFFSETTO:-0400
TZNAME:EDT
DTSTART:20260308T070000
END:DAYLIGHT
BEGIN:STANDARD
TZOFFSETFROM:-0400
TZOFFSETTO:-0500
TZNAME:EST
DTSTART:20261101T060000
END:STANDARD
END:VTIMEZONE
BEGIN:VEVENT
DTSTART;TZID=America/New_York:20250728T100000
DTEND;TZID=America/New_York:20250728T130000
DTSTAMP:20260424T035116
CREATED:20250715T031027Z
LAST-MODIFIED:20250715T031027Z
UID:2958-1753696800-1753707600@woodsnwater.org
SUMMARY:Jon Hinker VFW Commander/Woods n Water Ruck
DESCRIPTION:Ruck II of the VFW Commander’s Project of 2025.\n\nThis is our 2nd ruck event scheduled for the Commander’s Project and will include VFW Post 1302 of Kearny\, NJ 07032. We will meet there\, get everyone signed in\, get acquainted\, and begin our ruck.\n\nThis event is open to all!!! Whether you are already rucking or sitting in the house playing video games\, this event is for you. Rucking is a great holistic method to improve yourself mentally\, medically and physically.\n\nAfter returning to Post 1302\, there will be an opportunity for camaraderie\, information\, and cross talk at a group chat session or you are welcome to leave right after.\n\nFor those able to throw on a ruck sack\, please put at least 22 lbs for the 22 Veterans a day
URL:https://woodsnwater.org/event/jon-hinker-vfw-commander-woods-n-water-ruck/
LOCATION:VFW Post 1302\, 8 New York Ave\, 300 Belgrove Dr.\, NJ\, 07032\, United States
ATTACH;FMTTYPE=image/jpeg:https://woodsnwater.org/wp-content/uploads/2025/07/Kearny.jpg
ORGANIZER;CN="Woods N Water":MAILTO:GDaly@WoodsnWater.org
END:VEVENT
END:VCALENDAR