BEGIN:VCALENDAR
VERSION:2.0
PRODID:-//Woods N Water - ECPv6.15.20//NONSGML v1.0//EN
CALSCALE:GREGORIAN
METHOD:PUBLISH
X-WR-CALNAME:Woods N Water
X-ORIGINAL-URL:https://woodsnwater.org
X-WR-CALDESC:Events for Woods N Water
REFRESH-INTERVAL;VALUE=DURATION:PT1H
X-Robots-Tag:noindex
X-PUBLISHED-TTL:PT1H
BEGIN:VTIMEZONE
TZID:America/New_York
BEGIN:DAYLIGHT
TZOFFSETFROM:-0500
TZOFFSETTO:-0400
TZNAME:EDT
DTSTART:20220313T070000
END:DAYLIGHT
BEGIN:STANDARD
TZOFFSETFROM:-0400
TZOFFSETTO:-0500
TZNAME:EST
DTSTART:20221106T060000
END:STANDARD
BEGIN:DAYLIGHT
TZOFFSETFROM:-0500
TZOFFSETTO:-0400
TZNAME:EDT
DTSTART:20230312T070000
END:DAYLIGHT
BEGIN:STANDARD
TZOFFSETFROM:-0400
TZOFFSETTO:-0500
TZNAME:EST
DTSTART:20231105T060000
END:STANDARD
BEGIN:DAYLIGHT
TZOFFSETFROM:-0500
TZOFFSETTO:-0400
TZNAME:EDT
DTSTART:20240310T070000
END:DAYLIGHT
BEGIN:STANDARD
TZOFFSETFROM:-0400
TZOFFSETTO:-0500
TZNAME:EST
DTSTART:20241103T060000
END:STANDARD
END:VTIMEZONE
BEGIN:VEVENT
DTSTART;TZID=America/New_York:20231221T150000
DTEND;TZID=America/New_York:20231221T213000
DTSTAMP:20260425T124120
CREATED:20231208T040939Z
LAST-MODIFIED:20231208T040939Z
UID:1840-1703170800-1703194200@woodsnwater.org
SUMMARY:Texas Roadhouse Dine to Donate Fundraiser
DESCRIPTION:  \nMillville Texas Roadhouse is kind enough to hold a Dine to Donate Fundraiser for Woods n Water!!!\n\nTo make it even better\, they are donating 15% of the sales from Woods n Water supporters. But\, we need your help to make it a success. You have the important job. Have great service and enjoy a great meal!!! Oh yeah\, and let your server know that you are there to support Woods n Water.\n\nWe will be there in the foyer as you walk in. We will have Woods n Water shirts\, decals and information so stop by and say hi. If you didn’t get to print the flier\, you can grab one from us there or have it ready on your phone to show your server.
URL:https://woodsnwater.org/event/texas-roadhouse-dine-to-donate-fundraiser/
LOCATION:Texas Roadhouse\, 2299 N 2nd St\, Millville\, NJ\, 08332\, United States
ATTACH;FMTTYPE=image/png:https://woodsnwater.org/wp-content/uploads/2023/12/Screenshot-190.png
ORGANIZER;CN="Woods N Water":MAILTO:GDaly@WoodsnWater.org
END:VEVENT
END:VCALENDAR