BEGIN:VCALENDAR
VERSION:2.0
PRODID:-//Woods N Water - ECPv6.15.20//NONSGML v1.0//EN
CALSCALE:GREGORIAN
METHOD:PUBLISH
X-WR-CALNAME:Woods N Water
X-ORIGINAL-URL:https://woodsnwater.org
X-WR-CALDESC:Events for Woods N Water
REFRESH-INTERVAL;VALUE=DURATION:PT1H
X-Robots-Tag:noindex
X-PUBLISHED-TTL:PT1H
BEGIN:VTIMEZONE
TZID:America/New_York
BEGIN:DAYLIGHT
TZOFFSETFROM:-0500
TZOFFSETTO:-0400
TZNAME:EDT
DTSTART:20220313T070000
END:DAYLIGHT
BEGIN:STANDARD
TZOFFSETFROM:-0400
TZOFFSETTO:-0500
TZNAME:EST
DTSTART:20221106T060000
END:STANDARD
BEGIN:DAYLIGHT
TZOFFSETFROM:-0500
TZOFFSETTO:-0400
TZNAME:EDT
DTSTART:20230312T070000
END:DAYLIGHT
BEGIN:STANDARD
TZOFFSETFROM:-0400
TZOFFSETTO:-0500
TZNAME:EST
DTSTART:20231105T060000
END:STANDARD
BEGIN:DAYLIGHT
TZOFFSETFROM:-0500
TZOFFSETTO:-0400
TZNAME:EDT
DTSTART:20240310T070000
END:DAYLIGHT
BEGIN:STANDARD
TZOFFSETFROM:-0400
TZOFFSETTO:-0500
TZNAME:EST
DTSTART:20241103T060000
END:STANDARD
END:VTIMEZONE
BEGIN:VEVENT
DTSTART;TZID=America/New_York:20230304T110000
DTEND;TZID=America/New_York:20230304T160000
DTSTAMP:20260426T002531
CREATED:20230207T015451Z
LAST-MODIFIED:20230207T015451Z
UID:1608-1677927600-1677945600@woodsnwater.org
SUMMARY:Hero Skeet Shooting
DESCRIPTION:Our friends at Pioneer Sportsman reached out and invited us to bring some of our Heroes out for a day of skeet shooting. \n  \nAs with all of our events\, this is a FREE event. Shotguns\, ammo\, clays\, lunch\, bottles of water\, coffee and hot chocolate will be provided. If you have your own shotgun\, you are welcome to bring it. If you would like any other beverage\, you will need to provide it. \n  \nPlease be sure to register via Eventbrite. We need a headcount and emergency contact information. \n  \nDirections to event location: \n  \nFrom Woodland Volunteer Fire & EMS Station#1 (3991 County Rd 563\, Chatsworth\, NJ 08019 – corner of 532 & Main St) \nFrom station parking lot\, turn right onto Main St (New Gretna Chatsworth Rd/Rt 563) \nIn about 3/4 of a mile\, bear right at fork in the road\, continuing on New Gretna Chatsworth Rd/Rt 563 for another 3 miles \nTurn right onto Friendship Speedwell Rd for 1.3 miles \nTurn left at the 2nd  left onto Eagle Rd for 1.1 miles to Old Oak Tree \nTurn right at Old Oak Tree\, event location is 1/4 of a mile on the left. \n  \nFrom Carranza Memorial Monument \nFrom monument with it on your right (Carranza Rd) travel 3.3 miles \nAfter crossing a bridge\, turn left at Friendship Historic Ruins onto Friendship Speedwell Rd for 1.2 miles \nTurn right at the first right onto Eagle Rd for 1.1 miles to Old Oak Tree \nTurn right onto Old Oak Tree\, event location is 1/4 of a mile on the left.
URL:https://woodsnwater.org/event/hero-skeet-shooting/
LOCATION:Pioneer Sportsman Clubhouse\, Chatsworth\, New Jersey
ATTACH;FMTTYPE=image/jpeg:https://woodsnwater.org/wp-content/uploads/2023/02/HeroSkeet1.jpg
END:VEVENT
BEGIN:VEVENT
DTSTART;TZID=America/New_York:20230329T180000
DTEND;TZID=America/New_York:20230329T220000
DTSTAMP:20260426T002531
CREATED:20230315T041233Z
LAST-MODIFIED:20230315T041446Z
UID:1662-1680112800-1680127200@woodsnwater.org
SUMMARY:Mission: Night Out
DESCRIPTION:Join us for a night out!\n\nOn the last Wednesday of the month we want everyone to forget work\, the bills\, housework and anything else that adds stress or takes away from having a relaxing good night out. We select a non-profit or a Hero owned establishment with a bar and a menu.\nThis month\, we will be holding the Night Out at the Root Cellar Tavern. The Root Cellar is owned & operated by a Vietnam Veteran.\nThey will be having their wing night for your appetite\, as well as other choices to order from.\nWe will arrive by 6:00pm\, but everyone is welcome to arrive when they please. As with each Night Out\, we will hold a 50/50 with the winner receiving 50% of the pot and a gift. The remaining 50% will be donated to the Veteran or First Responder charity of the Root Cellar’s choosing. Tickets are $5 per ticket. Drawing is scheduled to be drawn at 9:00pm.
URL:https://woodsnwater.org/event/mission-night-out/
LOCATION:Root Cellar\, 38 Tuckahoe Rd\, Dorothy\, NJ\, United States
ATTACH;FMTTYPE=image/jpeg:https://woodsnwater.org/wp-content/uploads/2023/03/NightOutRootCellar.jpg
ORGANIZER;CN="Woods N Water":MAILTO:GDaly@WoodsnWater.org
END:VEVENT
END:VCALENDAR