BEGIN:VCALENDAR
VERSION:2.0
PRODID:-//Woods N Water - ECPv6.15.20//NONSGML v1.0//EN
CALSCALE:GREGORIAN
METHOD:PUBLISH
X-ORIGINAL-URL:https://woodsnwater.org
X-WR-CALDESC:Events for Woods N Water
REFRESH-INTERVAL;VALUE=DURATION:PT1H
X-Robots-Tag:noindex
X-PUBLISHED-TTL:PT1H
BEGIN:VTIMEZONE
TZID:America/New_York
BEGIN:DAYLIGHT
TZOFFSETFROM:-0500
TZOFFSETTO:-0400
TZNAME:EDT
DTSTART:20240310T070000
END:DAYLIGHT
BEGIN:STANDARD
TZOFFSETFROM:-0400
TZOFFSETTO:-0500
TZNAME:EST
DTSTART:20241103T060000
END:STANDARD
BEGIN:DAYLIGHT
TZOFFSETFROM:-0500
TZOFFSETTO:-0400
TZNAME:EDT
DTSTART:20250309T070000
END:DAYLIGHT
BEGIN:STANDARD
TZOFFSETFROM:-0400
TZOFFSETTO:-0500
TZNAME:EST
DTSTART:20251102T060000
END:STANDARD
BEGIN:DAYLIGHT
TZOFFSETFROM:-0500
TZOFFSETTO:-0400
TZNAME:EDT
DTSTART:20260308T070000
END:DAYLIGHT
BEGIN:STANDARD
TZOFFSETFROM:-0400
TZOFFSETTO:-0500
TZNAME:EST
DTSTART:20261101T060000
END:STANDARD
END:VTIMEZONE
BEGIN:VEVENT
DTSTART;TZID=America/New_York:20250222T163000
DTEND;TZID=America/New_York:20250222T220000
DTSTAMP:20260424T113818
CREATED:20250213T184630Z
LAST-MODIFIED:20250213T184630Z
UID:2718-1740241800-1740261600@woodsnwater.org
SUMMARY:Combat Campfire XVII
DESCRIPTION:Are you a Veteran or Active Duty Member of the Armed Forces and have been deployed to a Combat Zone?\nIf so\, we welcome you home and invite you to join others that have been as well in sitting around a campfire\, breaking bread and shootin’ the shit ………. let the conversations and mood direct the night.\n\n\n*** Register on Eventbrite …… simply click on tickets/free on this event\n\n\nWe start the night at 1630\, but you are welcome to arrive when you can make it. It will last as long as y’all want it to (ending time is required for the event creation). At 1630\, there will be coffee\, bottled water and snacks; at 1700ish\, dinner will be served. We provide the campfire\, wood\, coffee\, bottles of water\, snacks and grub. All that y’all have to do is keep the fire going.\n\nBe sure to register on Eventbrite!!!!\n\nWoods ~n~ Water vets ALL Combat Campfire participants. If you have not been verified by a Woods ~n~ Water board member\, please provide proper documentation. There are instructions on how to do so in the registration process for those the need to\n\n*** PLEASE MAINTAIN POSTED SPEED LIMIT SIGNS THROUGHOUT THE PROPERTY ***
URL:https://woodsnwater.org/event/combat-campfire-xvii-2/
LOCATION:Salem County Sportsman’s Club\, 273 U.S. Highway 40\, Penns Grove\, NJ\, 08069
ATTACH;FMTTYPE=image/jpeg:https://woodsnwater.org/wp-content/uploads/2025/02/Combat-Campfire.jpg
ORGANIZER;CN="Woods N Water":MAILTO:GDaly@WoodsnWater.org
END:VEVENT
END:VCALENDAR