BEGIN:VCALENDAR
VERSION:2.0
PRODID:-//Woods N Water - ECPv6.15.20//NONSGML v1.0//EN
CALSCALE:GREGORIAN
METHOD:PUBLISH
X-WR-CALNAME:Woods N Water
X-ORIGINAL-URL:https://woodsnwater.org
X-WR-CALDESC:Events for Woods N Water
REFRESH-INTERVAL;VALUE=DURATION:PT1H
X-Robots-Tag:noindex
X-PUBLISHED-TTL:PT1H
BEGIN:VTIMEZONE
TZID:America/New_York
BEGIN:DAYLIGHT
TZOFFSETFROM:-0500
TZOFFSETTO:-0400
TZNAME:EDT
DTSTART:20230312T070000
END:DAYLIGHT
BEGIN:STANDARD
TZOFFSETFROM:-0400
TZOFFSETTO:-0500
TZNAME:EST
DTSTART:20231105T060000
END:STANDARD
BEGIN:DAYLIGHT
TZOFFSETFROM:-0500
TZOFFSETTO:-0400
TZNAME:EDT
DTSTART:20240310T070000
END:DAYLIGHT
BEGIN:STANDARD
TZOFFSETFROM:-0400
TZOFFSETTO:-0500
TZNAME:EST
DTSTART:20241103T060000
END:STANDARD
BEGIN:DAYLIGHT
TZOFFSETFROM:-0500
TZOFFSETTO:-0400
TZNAME:EDT
DTSTART:20250309T070000
END:DAYLIGHT
BEGIN:STANDARD
TZOFFSETFROM:-0400
TZOFFSETTO:-0500
TZNAME:EST
DTSTART:20251102T060000
END:STANDARD
END:VTIMEZONE
BEGIN:VEVENT
DTSTART;TZID=America/New_York:20240308T163000
DTEND;TZID=America/New_York:20240308T220000
DTSTAMP:20260425T065057
CREATED:20240223T190454Z
LAST-MODIFIED:20240223T190704Z
UID:2034-1709915400-1709935200@woodsnwater.org
SUMMARY:Combat Campfire XIV
DESCRIPTION:Firewood for this event is provided by Wingate Tree Service LLC \nThis event is strictly for those that have been deployed to a Combat Zone! \n\nAre you a Veteran or an Active Duty Member of the Armed Forces that has been deployed to a Combat Zone? If so\, we Welcome you home & invite you to join others that have been as well to sit around a campfire breaking bread and shootin’ the shit……… let the conversation and mood direct the night.\n\n*** Be sure to register via Eventbrite by clicking on tickets/free of this event ***\n\nWe start the night at 1630\, but you are welcome to arrive when you can make it and it lasts as long as y’all want it to. Dinner will be ready at 1700. We will provide a campfire\, coffee\, bottled water\, snacks and dinner. All y’all have to do is keep the fire going.\n\nWoods ~n~ Water vets ALL Combat Campfire participants. If you have not been verified by a Woods ~n~ Water board member\, please provide proper documentation. There are instructions on how to do so in the registration process for those that need to.\n\n**Please register via Eventbrite!!!\n\nIf you have a mental health crisis please call 988 press 1
URL:https://woodsnwater.org/event/combat-campfire-xiv/
LOCATION:Belleplain State Park\, 1 Henkinsifkin Road\, Woodbine\, NJ\, 08270\, United States
ATTACH;FMTTYPE=image/jpeg:https://woodsnwater.org/wp-content/uploads/2022/05/Combat-Campfire.jpg
ORGANIZER;CN="Woods N Water":MAILTO:GDaly@WoodsnWater.org
END:VEVENT
END:VCALENDAR