BEGIN:VCALENDAR
VERSION:2.0
PRODID:-//Woods N Water - ECPv6.15.20//NONSGML v1.0//EN
CALSCALE:GREGORIAN
METHOD:PUBLISH
X-WR-CALNAME:Woods N Water
X-ORIGINAL-URL:https://woodsnwater.org
X-WR-CALDESC:Events for Woods N Water
REFRESH-INTERVAL;VALUE=DURATION:PT1H
X-Robots-Tag:noindex
X-PUBLISHED-TTL:PT1H
BEGIN:VTIMEZONE
TZID:America/New_York
BEGIN:DAYLIGHT
TZOFFSETFROM:-0500
TZOFFSETTO:-0400
TZNAME:EDT
DTSTART:20220313T070000
END:DAYLIGHT
BEGIN:STANDARD
TZOFFSETFROM:-0400
TZOFFSETTO:-0500
TZNAME:EST
DTSTART:20221106T060000
END:STANDARD
BEGIN:DAYLIGHT
TZOFFSETFROM:-0500
TZOFFSETTO:-0400
TZNAME:EDT
DTSTART:20230312T070000
END:DAYLIGHT
BEGIN:STANDARD
TZOFFSETFROM:-0400
TZOFFSETTO:-0500
TZNAME:EST
DTSTART:20231105T060000
END:STANDARD
BEGIN:DAYLIGHT
TZOFFSETFROM:-0500
TZOFFSETTO:-0400
TZNAME:EDT
DTSTART:20240310T070000
END:DAYLIGHT
BEGIN:STANDARD
TZOFFSETFROM:-0400
TZOFFSETTO:-0500
TZNAME:EST
DTSTART:20241103T060000
END:STANDARD
END:VTIMEZONE
BEGIN:VEVENT
DTSTART;TZID=America/New_York:20230826T130000
DTEND;TZID=America/New_York:20230826T200000
DTSTAMP:20260425T195212
CREATED:20230824T032227Z
LAST-MODIFIED:20230824T032227Z
UID:1757-1693054800-1693080000@woodsnwater.org
SUMMARY:Support VFW Post 5579 Run
DESCRIPTION:Join us for a run to the Gibbstown VFW for their Summer Concert Series!\n\nWe will be assisting the Clayton Elks Motorcycle Committee with their cookout & giveaway at Camp Salute\, then riding out on 2\, 3\, 4 wheels at 1:30 for the Gibbstown VFW Post 5579 located at:\n743 West Broad St\, Gibbstown\, NJ 08027\n\nMeet at the Clayton Elks at 1:00. KSU (leaving) 1:30\nWe will take country roads to the VFW and enjoy a well established Southern Rock\, country\, rock band\, good food and supporting the VFW Post 5579
URL:https://woodsnwater.org/event/support-vfw-post-5579-run/
LOCATION:VFW Post 5579\, 743 W Broad St\, Gibbstown\, NJ\, 08027\, United States
ATTACH;FMTTYPE=image/jpeg:https://woodsnwater.org/wp-content/uploads/2023/08/Resized_Attachmen11.jpeg
ORGANIZER;CN="Woods N Water":MAILTO:GDaly@WoodsnWater.org
END:VEVENT
END:VCALENDAR