BEGIN:VCALENDAR
VERSION:2.0
PRODID:-//Woods N Water - ECPv6.15.20//NONSGML v1.0//EN
CALSCALE:GREGORIAN
METHOD:PUBLISH
X-WR-CALNAME:Woods N Water
X-ORIGINAL-URL:https://woodsnwater.org
X-WR-CALDESC:Events for Woods N Water
REFRESH-INTERVAL;VALUE=DURATION:PT1H
X-Robots-Tag:noindex
X-PUBLISHED-TTL:PT1H
BEGIN:VTIMEZONE
TZID:America/New_York
BEGIN:DAYLIGHT
TZOFFSETFROM:-0500
TZOFFSETTO:-0400
TZNAME:EDT
DTSTART:20230312T070000
END:DAYLIGHT
BEGIN:STANDARD
TZOFFSETFROM:-0400
TZOFFSETTO:-0500
TZNAME:EST
DTSTART:20231105T060000
END:STANDARD
BEGIN:DAYLIGHT
TZOFFSETFROM:-0500
TZOFFSETTO:-0400
TZNAME:EDT
DTSTART:20240310T070000
END:DAYLIGHT
BEGIN:STANDARD
TZOFFSETFROM:-0400
TZOFFSETTO:-0500
TZNAME:EST
DTSTART:20241103T060000
END:STANDARD
BEGIN:DAYLIGHT
TZOFFSETFROM:-0500
TZOFFSETTO:-0400
TZNAME:EDT
DTSTART:20250309T070000
END:DAYLIGHT
BEGIN:STANDARD
TZOFFSETFROM:-0400
TZOFFSETTO:-0500
TZNAME:EST
DTSTART:20251102T060000
END:STANDARD
END:VTIMEZONE
BEGIN:VEVENT
DTSTART;TZID=America/New_York:20240216T163000
DTEND;TZID=America/New_York:20240216T220000
DTSTAMP:20260425T095510
CREATED:20240201T132945Z
LAST-MODIFIED:20240206T053044Z
UID:1937-1708101000-1708120800@woodsnwater.org
SUMMARY:Combat Campfire XIII
DESCRIPTION:This event is strictly for those that have been deployed to a Combat Zone!\n\nAre you a Veteran or an Active Duty Member of the Armed Forces that has been deployed to a Combat Zone? If so\, we Welcome you home & invite you to join others that have been as well to sit around a campfire breaking bread and shootin’ the shit……… let the conversation and mood direct the night.\n\nWe start the night at 1630\, but you are welcome to arrive when you can make it and it lasts as long as y’all want it to. Dinner will be ready at 1700. We will provide a campfire\, coffee\, bottled water\, snacks and dinner. All y’all have to do is keep the fire going. We have a special Co-Host for this event. Jon Hinker – NJ VFW Jr Vice Commander!\n\n**BE SURE TO REGISTER VIA EVENTBRITE!!! Just click on the link provided on this event and you will be directed to the registration**\n\nWoods ~n~ Water vets ALL Combat Campfire participants. If you have not been verified by a Woods ~n~ Water board member\, please provide proper documentation. There are instructions on how to do so in the registration process for those that need to.\n\n**BE SURE TO REGISTER VIA EVENTBRITE!!! Just click on the link provided on this event and you will be directed to the registration**\n\nI f you have a mental health crisis\, please dial 988 then press 1
URL:https://woodsnwater.org/event/combat-campfire-xiii/
LOCATION:Belleplain State Park\, 1 Henkinsifkin Road\, Woodbine\, NJ\, 08270\, United States
ATTACH;FMTTYPE=image/jpeg:https://woodsnwater.org/wp-content/uploads/2022/05/Combat-Campfire.jpg
ORGANIZER;CN="Woods N Water":MAILTO:GDaly@WoodsnWater.org
END:VEVENT
BEGIN:VEVENT
DTSTART;TZID=America/New_York:20240217T163000
DTEND;TZID=America/New_York:20240217T220000
DTSTAMP:20260425T095510
CREATED:20240201T141155Z
LAST-MODIFIED:20240201T141302Z
UID:1939-1708187400-1708207200@woodsnwater.org
SUMMARY:Camaraderie Campfire
DESCRIPTION:Woods n Water would like to invite our Nation’s Heroes out for camaraderie\, a campfire and nature.\n\nWe have been holding Combat Campfires for awhile and will now begin holding Camaraderie Campfires as well\, providing bottled water\, coffee\, snacks\, dinner and firewood.\n\nYou may arrive any time after 1400\, but we will have the fire going\, coffee & snacks ready by 1630 and chow at approximately 1700. There is no set time when it will end. That will depend on you. There will be cornhole toss set up for those that wish to arrive early and get some games in before night fall.\n\n**BE SURE TO REGISTER VIA EVENTBRITE!!! Simply click on the link provided on the event and it will direct you to the registration**\n\nThe objective of the event is to thank you for your service\, as well as offer you an opportunity to discover resources and support available to you. Some seating will be provided. If possible\, please bring an outdoor chair. There is no alcohol or drugs permitted in state parks.\nWe look forward to seeing you there!
URL:https://woodsnwater.org/event/camaraderie-campfire/
LOCATION:Belleplain State Park\, 1 Henkinsifkin Road\, Woodbine\, NJ\, 08270\, United States
ATTACH;FMTTYPE=image/jpeg:https://woodsnwater.org/wp-content/uploads/2024/02/CamaraderieCampfire.jpg
ORGANIZER;CN="Woods N Water":MAILTO:GDaly@WoodsnWater.org
END:VEVENT
END:VCALENDAR