BEGIN:VCALENDAR
VERSION:2.0
PRODID:-//Woods N Water - ECPv6.15.20//NONSGML v1.0//EN
CALSCALE:GREGORIAN
METHOD:PUBLISH
X-WR-CALNAME:Woods N Water
X-ORIGINAL-URL:https://woodsnwater.org
X-WR-CALDESC:Events for Woods N Water
REFRESH-INTERVAL;VALUE=DURATION:PT1H
X-Robots-Tag:noindex
X-PUBLISHED-TTL:PT1H
BEGIN:VTIMEZONE
TZID:America/New_York
BEGIN:DAYLIGHT
TZOFFSETFROM:-0500
TZOFFSETTO:-0400
TZNAME:EDT
DTSTART:20230312T070000
END:DAYLIGHT
BEGIN:STANDARD
TZOFFSETFROM:-0400
TZOFFSETTO:-0500
TZNAME:EST
DTSTART:20231105T060000
END:STANDARD
BEGIN:DAYLIGHT
TZOFFSETFROM:-0500
TZOFFSETTO:-0400
TZNAME:EDT
DTSTART:20240310T070000
END:DAYLIGHT
BEGIN:STANDARD
TZOFFSETFROM:-0400
TZOFFSETTO:-0500
TZNAME:EST
DTSTART:20241103T060000
END:STANDARD
BEGIN:DAYLIGHT
TZOFFSETFROM:-0500
TZOFFSETTO:-0400
TZNAME:EDT
DTSTART:20250309T070000
END:DAYLIGHT
BEGIN:STANDARD
TZOFFSETFROM:-0400
TZOFFSETTO:-0500
TZNAME:EST
DTSTART:20251102T060000
END:STANDARD
END:VTIMEZONE
BEGIN:VEVENT
DTSTART;TZID=America/New_York:20240404T160000
DTEND;TZID=America/New_York:20240404T220000
DTSTAMP:20260425T061747
CREATED:20240403T020013Z
LAST-MODIFIED:20240403T020013Z
UID:2113-1712246400-1712268000@woodsnwater.org
SUMMARY:Support Waterford Township War Memorial Committee
DESCRIPTION:  \nJoin us for dinner Thursday 4/04/24 to support a great organization – Waterford Township War Memorial Committee.\n\nThese are the easy ways to support others doing great things for the community. Great Texas Roadhouse food at no additional cost to you.\n\nThe good people of Texas Roadhouse will donate 10% of your bill to the Waterford Township War Memorial Committee. Just be sure to let your server know that you are there for the “Dine to Donate” fundraiser. If you can\, show them the flier. Either print it out and bring it or save it on your phone.\n\nIf you have a Woods n Water shirt\, wear it and we will give you a gift card for an Onion Blossom\, fried pickles or Rattlesnake Bites when you arrive.
URL:https://woodsnwater.org/event/support-waterford-township-war-memorial-committee/
LOCATION:Texas Roadhouse Sicklerville\, 631 Cross Keys Rd\, Sicklerville\, New Jersey\, 08081
ATTACH;FMTTYPE=image/jpeg:https://woodsnwater.org/wp-content/uploads/2024/04/434503271_730143042621439_8907928427664286334_n.jpg
ORGANIZER;CN="Woods N Water":MAILTO:Woods.n.Water.20GDaly@gmail.com
END:VEVENT
BEGIN:VEVENT
DTSTART;TZID=America/New_York:20240412T163000
DTEND;TZID=America/New_York:20240412T220000
DTSTAMP:20260425T061747
CREATED:20240308T045410Z
LAST-MODIFIED:20240308T045410Z
UID:2064-1712939400-1712959200@woodsnwater.org
SUMMARY:Combat Campfire XV
DESCRIPTION:This event is strictly for those that have been deployed to a Combat Zone!\n\nAre you a Veteran or an Active Duty Member of the Armed Forces that has been deployed to a Combat Zone? If so\, we Welcome you home & invite you to join others that have been as well to sit around a campfire breaking bread and shootin’ the shit……… let the conversation and mood direct the night.\n\n\n***Be sure to register via Eventbrite! Simply click on tickets***\n\n\nWe start the night at 1630\, but you are welcome to arrive when you can make it and it lasts as long as y’all want it to. Dinner will be ready at 1700. We will provide a campfire\, coffee\, bottled water\, snacks and dinner. All y’all have to do is keep the fire going.\nWoods ~n~ Water vets ALL Combat Campfire participants. If you have not been verified by a Woods ~n~ Water board member\, please provide proper documentation. There are instructions on how to do so in the registration process for those that need to.\n\n***Be sure to register via Eventbrite! Simply click on tickets***\n\nIf you have a mental health crisis\, please dial 988 then press 1
URL:https://woodsnwater.org/event/combat-campfire-xv/
LOCATION:Belleplain State Park\, 1 Henkinsifkin Road\, Woodbine\, NJ\, 08270\, United States
ATTACH;FMTTYPE=image/jpeg:https://woodsnwater.org/wp-content/uploads/2024/03/Combat-Campfire.jpg
ORGANIZER;CN="Woods N Water":MAILTO:GDaly@WoodsnWater.org
END:VEVENT
BEGIN:VEVENT
DTSTART;TZID=America/New_York:20240413T163000
DTEND;TZID=America/New_York:20240413T220000
DTSTAMP:20260425T061747
CREATED:20240308T055226Z
LAST-MODIFIED:20240308T055226Z
UID:2067-1713025800-1713045600@woodsnwater.org
SUMMARY:Camaraderie Campfire III
DESCRIPTION:Woods n Water would like to invite our Nation’s Heroes out for camaraderie\, a campfire and nature. \nWe have been holding Combat Campfires for awhile now. We have now began holding Camaraderie Campfires as well\, providing bottled water\, coffee\, snacks\, dinner and firewood. \nYou may arrive any time after 1400\, but we will have the fire going\, coffee & snacks ready by 1630 and chow at approximatey 1700. There is no set time when it will end. That will depend on you. There will be cornhole toss set up for those that wish to arrive early and get some games in before night fall.The objective of the event is to thank you for your service\, as well as offer you an opportunity to discover resources and support available to you. Some seating will be provided. If possible\, please bring an outdoor chair. There is no alcohol or drugs permitted in state parks. \n***Be sure to register via Eventbrite by clicking on tickets*** \nWe look forward to seeing you there!
URL:https://woodsnwater.org/event/camaraderie-campfire-iii/
LOCATION:Belleplain State Park\, 1 Henkinsifkin Road\, Woodbine\, NJ\, 08270\, United States
ATTACH;FMTTYPE=image/jpeg:https://woodsnwater.org/wp-content/uploads/2024/02/20240217_175854-scaled.jpg
ORGANIZER;CN="Woods N Water":MAILTO:GDaly@WoodsnWater.org
END:VEVENT
BEGIN:VEVENT
DTSTART;TZID=America/New_York:20240427T160000
DTEND;TZID=America/New_York:20240427T190000
DTSTAMP:20260425T061747
CREATED:20240331T015755Z
LAST-MODIFIED:20240331T015755Z
UID:2109-1714233600-1714244400@woodsnwater.org
SUMMARY:Camaraderie Campfire - VFW Post 12173
DESCRIPTION:All Veterans are welcome to join us for a campfire cookout. Feel free to bring your family and enjoy some grilled burgers\, hot dogs\, some sides\, homemade desserts\, music\, horseshoes\, cornhole toss and more.\n\nWe hold a variety of campfires in various locations. For this one\, we teamed up with the VFW Riders Post 12173 to hold it at the VFW Post 12173 in Tuckerton\, NJ.\n\nThere is absolutely NO fee!!! We have a limited amount of chairs. If possible\, please bring your outdoor chair for sitting around the fire.
URL:https://woodsnwater.org/event/camaraderie-campfire-vfw-post-12173/
LOCATION:VFW Post 12173\, 30 Gifford Rd\, Tuckerton\, New Jersey\, 08072
ATTACH;FMTTYPE=image/jpeg:https://woodsnwater.org/wp-content/uploads/2024/02/20240217_175854-scaled.jpg
ORGANIZER;CN="Woods N Water":MAILTO:GDaly@WoodsnWater.org
END:VEVENT
END:VCALENDAR