BEGIN:VCALENDAR
VERSION:2.0
PRODID:-//Woods N Water - ECPv6.15.20//NONSGML v1.0//EN
CALSCALE:GREGORIAN
METHOD:PUBLISH
X-ORIGINAL-URL:https://woodsnwater.org
X-WR-CALDESC:Events for Woods N Water
REFRESH-INTERVAL;VALUE=DURATION:PT1H
X-Robots-Tag:noindex
X-PUBLISHED-TTL:PT1H
BEGIN:VTIMEZONE
TZID:America/New_York
BEGIN:DAYLIGHT
TZOFFSETFROM:-0500
TZOFFSETTO:-0400
TZNAME:EDT
DTSTART:20250309T070000
END:DAYLIGHT
BEGIN:STANDARD
TZOFFSETFROM:-0400
TZOFFSETTO:-0500
TZNAME:EST
DTSTART:20251102T060000
END:STANDARD
BEGIN:DAYLIGHT
TZOFFSETFROM:-0500
TZOFFSETTO:-0400
TZNAME:EDT
DTSTART:20260308T070000
END:DAYLIGHT
BEGIN:STANDARD
TZOFFSETFROM:-0400
TZOFFSETTO:-0500
TZNAME:EST
DTSTART:20261101T060000
END:STANDARD
BEGIN:DAYLIGHT
TZOFFSETFROM:-0500
TZOFFSETTO:-0400
TZNAME:EDT
DTSTART:20270314T070000
END:DAYLIGHT
BEGIN:STANDARD
TZOFFSETFROM:-0400
TZOFFSETTO:-0500
TZNAME:EST
DTSTART:20271107T060000
END:STANDARD
END:VTIMEZONE
BEGIN:VEVENT
DTSTART;TZID=America/New_York:20260606T120000
DTEND;TZID=America/New_York:20260606T170000
DTSTAMP:20260423T173916
CREATED:20260106T161750Z
LAST-MODIFIED:20260106T161750Z
UID:3375-1780747200-1780765200@woodsnwater.org
SUMMARY:Veteran's Jeep Jam
DESCRIPTION:Woods n Water is excited to announce a partnership with Paws Healing Heroes & SpectraCare Foundation for a June 06 fundraising event that will be fun for the whole family. \n  \nThe event will consist of a judged Jeep competition\, vendors\, food\, fun activities for the family\, DJ\, food\, cash bar and more!!! \n  \nThe event will be held at WnW Family Gibbstown VFW Post 5579. They have a spacious grass area capable of accommodating hundreds of Jeeps to compete\, vendors and of course\, YOU ALL!!! \n  \nIf you are a business and would like to be a sponsor\, we have several options to fit your budget\, as well as vendor opportunities. All vendors are welcome\, so don’t miss out on this opportunity to display your product(s) and/or services to all that attend what is expected to be a huge event. \n  \nTo register or be a sponsor\, scan the related QR code. Any questions or concerns\, feel free to contact Woodsd n Water or Paws Healing Heroes. \n  \n 
URL:https://woodsnwater.org/event/veterans-jeep-jam/
LOCATION:Gibbstown VFW Post 5579\, 743 W Broad St\, Gibbstown\, NJ\, 08027\, United States
ATTACH;FMTTYPE=image/jpeg:https://woodsnwater.org/wp-content/uploads/2026/01/Veterans-Jeep-Jam-Sponsor.jpg
ORGANIZER;CN="Woods N Water":MAILTO:GDaly@WoodsnWater.org
END:VEVENT
END:VCALENDAR