BEGIN:VCALENDAR
VERSION:2.0
PRODID:-//Woods N Water - ECPv6.15.20//NONSGML v1.0//EN
CALSCALE:GREGORIAN
METHOD:PUBLISH
X-WR-CALNAME:Woods N Water
X-ORIGINAL-URL:https://woodsnwater.org
X-WR-CALDESC:Events for Woods N Water
REFRESH-INTERVAL;VALUE=DURATION:PT1H
X-Robots-Tag:noindex
X-PUBLISHED-TTL:PT1H
BEGIN:VTIMEZONE
TZID:America/New_York
BEGIN:DAYLIGHT
TZOFFSETFROM:-0500
TZOFFSETTO:-0400
TZNAME:EDT
DTSTART:20230312T070000
END:DAYLIGHT
BEGIN:STANDARD
TZOFFSETFROM:-0400
TZOFFSETTO:-0500
TZNAME:EST
DTSTART:20231105T060000
END:STANDARD
BEGIN:DAYLIGHT
TZOFFSETFROM:-0500
TZOFFSETTO:-0400
TZNAME:EDT
DTSTART:20240310T070000
END:DAYLIGHT
BEGIN:STANDARD
TZOFFSETFROM:-0400
TZOFFSETTO:-0500
TZNAME:EST
DTSTART:20241103T060000
END:STANDARD
BEGIN:DAYLIGHT
TZOFFSETFROM:-0500
TZOFFSETTO:-0400
TZNAME:EDT
DTSTART:20250309T070000
END:DAYLIGHT
BEGIN:STANDARD
TZOFFSETFROM:-0400
TZOFFSETTO:-0500
TZNAME:EST
DTSTART:20251102T060000
END:STANDARD
END:VTIMEZONE
BEGIN:VEVENT
DTSTART;TZID=America/New_York:20241127T180000
DTEND;TZID=America/New_York:20241127T220000
DTSTAMP:20260424T172834
CREATED:20241003T223849Z
LAST-MODIFIED:20241003T223849Z
UID:2526-1732730400-1732744800@woodsnwater.org
SUMMARY:3rd Annual Pumpkin Chunk'n
DESCRIPTION:Steakouts Homeplate in Pittsgrove is holding the 3rd annual Pumpkin Chunk’n event to raise both funds and food donations for the Woods n Water Food Pantry. This event is a lot of fun\, with an outstanding band that some of you may recall from our 3rd Annual We Got Your 6 Poker Run & Resource Fair\, Secret Sauce. \n  \nRegistration 6-7pmentry fee: Canned Food items(encouraged to bring 5)donated to woods n water food pantry\, benefiting local veterans!www.WoodsnWater.org
URL:https://woodsnwater.org/event/3rd-annual-pumpkin-chunkn/
LOCATION:Steakouts Homeplate\, 85 Harding Highway\, Pittsgrove\, NJ\, 08318\, United States
ATTACH;FMTTYPE=image/jpeg:https://woodsnwater.org/wp-content/uploads/2024/10/461963467_969546658523330_2382735216378324305_n.jpg
ORGANIZER;CN="Woods N Water":MAILTO:GDaly@WoodsnWater.org
END:VEVENT
END:VCALENDAR