BEGIN:VCALENDAR
VERSION:2.0
PRODID:-//Woods N Water - ECPv6.15.20//NONSGML v1.0//EN
CALSCALE:GREGORIAN
METHOD:PUBLISH
X-WR-CALNAME:Woods N Water
X-ORIGINAL-URL:https://woodsnwater.org
X-WR-CALDESC:Events for Woods N Water
REFRESH-INTERVAL;VALUE=DURATION:PT1H
X-Robots-Tag:noindex
X-PUBLISHED-TTL:PT1H
BEGIN:VTIMEZONE
TZID:America/New_York
BEGIN:DAYLIGHT
TZOFFSETFROM:-0500
TZOFFSETTO:-0400
TZNAME:EDT
DTSTART:20240310T070000
END:DAYLIGHT
BEGIN:STANDARD
TZOFFSETFROM:-0400
TZOFFSETTO:-0500
TZNAME:EST
DTSTART:20241103T060000
END:STANDARD
BEGIN:DAYLIGHT
TZOFFSETFROM:-0500
TZOFFSETTO:-0400
TZNAME:EDT
DTSTART:20250309T070000
END:DAYLIGHT
BEGIN:STANDARD
TZOFFSETFROM:-0400
TZOFFSETTO:-0500
TZNAME:EST
DTSTART:20251102T060000
END:STANDARD
BEGIN:DAYLIGHT
TZOFFSETFROM:-0500
TZOFFSETTO:-0400
TZNAME:EDT
DTSTART:20260308T070000
END:DAYLIGHT
BEGIN:STANDARD
TZOFFSETFROM:-0400
TZOFFSETTO:-0500
TZNAME:EST
DTSTART:20261101T060000
END:STANDARD
END:VTIMEZONE
BEGIN:VEVENT
DTSTART;TZID=America/New_York:20250805T180000
DTEND;TZID=America/New_York:20250805T210000
DTSTAMP:20260424T025512
CREATED:20250730T050601Z
LAST-MODIFIED:20250730T173214Z
UID:2998-1754416800-1754427600@woodsnwater.org
SUMMARY:National Night Out - Township of Hamilton
DESCRIPTION:Join us at Lake Lenape for the Township of Hamilton’s National Night Out!\n\nWoods n Water attends different locations for National Night Out each year as we serve multiple locations. Since we took possession of 17.65 acres in Mays Landing December 2024\, it is fitting that we attend this one to introduce ourselves to the local community\, other organizations\, agencies\, clubs\, and groups that serve our Nation’s Heroes. We are looking forward to meeting everyone in the community and building relationships.\n\nStop out and say hi and find out what we have done and what are plans are moving forward and maybe become part of the Woods n Water family by being a volunteer and/or supporter.\n\nIt should be a great event for the whole family with fireworks at the end.
URL:https://woodsnwater.org/event/national-night-out-township-of-hamilton/
LOCATION:Lake Lenape East\, 753 Park Rd\, Mays Landing\, 08330\, United States
ATTACH;FMTTYPE=image/jpeg:https://woodsnwater.org/wp-content/uploads/2025/07/524938448_1057712043197869_4093912834723671826_n.jpg
END:VEVENT
END:VCALENDAR