BEGIN:VCALENDAR
VERSION:2.0
PRODID:-//Woods N Water - ECPv6.15.20//NONSGML v1.0//EN
CALSCALE:GREGORIAN
METHOD:PUBLISH
X-WR-CALNAME:Woods N Water
X-ORIGINAL-URL:https://woodsnwater.org
X-WR-CALDESC:Events for Woods N Water
REFRESH-INTERVAL;VALUE=DURATION:PT1H
X-Robots-Tag:noindex
X-PUBLISHED-TTL:PT1H
BEGIN:VTIMEZONE
TZID:America/New_York
BEGIN:DAYLIGHT
TZOFFSETFROM:-0500
TZOFFSETTO:-0400
TZNAME:EDT
DTSTART:20230312T070000
END:DAYLIGHT
BEGIN:STANDARD
TZOFFSETFROM:-0400
TZOFFSETTO:-0500
TZNAME:EST
DTSTART:20231105T060000
END:STANDARD
BEGIN:DAYLIGHT
TZOFFSETFROM:-0500
TZOFFSETTO:-0400
TZNAME:EDT
DTSTART:20240310T070000
END:DAYLIGHT
BEGIN:STANDARD
TZOFFSETFROM:-0400
TZOFFSETTO:-0500
TZNAME:EST
DTSTART:20241103T060000
END:STANDARD
BEGIN:DAYLIGHT
TZOFFSETFROM:-0500
TZOFFSETTO:-0400
TZNAME:EDT
DTSTART:20250309T070000
END:DAYLIGHT
BEGIN:STANDARD
TZOFFSETFROM:-0400
TZOFFSETTO:-0500
TZNAME:EST
DTSTART:20251102T060000
END:STANDARD
END:VTIMEZONE
BEGIN:VEVENT
DTSTART;TZID=America/New_York:20240811T050000
DTEND;TZID=America/New_York:20240811T140000
DTSTAMP:20260424T214102
CREATED:20240303T110329Z
LAST-MODIFIED:20240303T110329Z
UID:2056-1723352400-1723384800@woodsnwater.org
SUMMARY:Mission: Hero Bass Fishing Derby - Union Lake
DESCRIPTION:  \nThis is a boat event for our Nation’s Heroes. \nVolunteer boaters will be paired with Veterans/active duty members of the Armed Forces and first responders for a FREE day of fishing on the water. If a Veteran/active duty member of the Armed Forces or a first responder has their own boat or a friend/family member that will take them out in one\, they are welcome to do so. If not\, we will team up each Hero with someone with a boat. So if you have a boat and would like to volunteer your time and boat to take a Hero out for a day of fishing\, we welcome you to join us. \n  \n***You must register via Eventbrite! The link is provided for you in this event.*** \n  \n  \nHeroes do NOT need a fishing license. NJ Fish & Wildlife generously waived the license requirement for WnW events. All others must have a current NJ fishing license in possession.\nThere is a motor restriction for this lake. No motor bigger than 9.9hp and boats must be legally registered. Derby team tournament format with awards going to:\nBass 5 fish limit \n* 1st Big Bass Team\n* 1st Big Miscellaneous Team\n* 1st Big Panfish Team (Crappie/Perch)\n(1) fishing rod per person at a time. Lures & live bait permitted\n(2) people per boat \n  \nWe ask boaters to arrive at 05:00\, get signed in and have your boat & gear ready to launch by 06:00\,\nThose without a boat are asked to arrive by 05:30\, sign in and be ready to launch with the boater assigned to you by 06:00 \n  \n***You must register via Eventbrite! The link is provided in this event.*** \n  \n 
URL:https://woodsnwater.org/event/mission-hero-bass-fishing-derby-carnegie-lake-2/
LOCATION:Union Lake Boat Ramp
ATTACH;FMTTYPE=image/jpeg:https://woodsnwater.org/wp-content/uploads/2023/05/Union-Lake.jpg
ORGANIZER;CN="Woods N Water":MAILTO:GDaly@WoodsnWater.org
END:VEVENT
END:VCALENDAR